BEGIN:VCALENDAR
VERSION:2.0
PRODID:-//Lansbrook - ECPv6.13.2.1//NONSGML v1.0//EN
CALSCALE:GREGORIAN
METHOD:PUBLISH
X-ORIGINAL-URL:https://lansbrooktampabay.com
X-WR-CALDESC:Events for Lansbrook
REFRESH-INTERVAL;VALUE=DURATION:PT1H
X-Robots-Tag:noindex
X-PUBLISHED-TTL:PT1H
BEGIN:VTIMEZONE
TZID:UTC
BEGIN:STANDARD
TZOFFSETFROM:+0000
TZOFFSETTO:+0000
TZNAME:UTC
DTSTART:20230101T000000
END:STANDARD
END:VTIMEZONE
BEGIN:VEVENT
DTSTART;TZID=UTC:20230324T180000
DTEND;TZID=UTC:20230324T210000
DTSTAMP:20260425T114200
CREATED:20230321T174123Z
LAST-MODIFIED:20230321T174123Z
UID:7872-1679680800-1679691600@lansbrooktampabay.com
SUMMARY:Movie Night
DESCRIPTION:
URL:https://lansbrooktampabay.com/event/movie-night/
LOCATION:Lakefront Park Lawn
END:VEVENT
END:VCALENDAR