BEGIN:VCALENDAR
VERSION:2.0
PRODID:-//Lansbrook - ECPv6.13.2.1//NONSGML v1.0//EN
CALSCALE:GREGORIAN
METHOD:PUBLISH
X-ORIGINAL-URL:https://lansbrooktampabay.com
X-WR-CALDESC:Events for Lansbrook
REFRESH-INTERVAL;VALUE=DURATION:PT1H
X-Robots-Tag:noindex
X-PUBLISHED-TTL:PT1H
BEGIN:VTIMEZONE
TZID:America/New_York
BEGIN:DAYLIGHT
TZOFFSETFROM:-0500
TZOFFSETTO:-0400
TZNAME:EDT
DTSTART:20240310T070000
END:DAYLIGHT
BEGIN:STANDARD
TZOFFSETFROM:-0400
TZOFFSETTO:-0500
TZNAME:EST
DTSTART:20241103T060000
END:STANDARD
END:VTIMEZONE
BEGIN:VEVENT
DTSTART;TZID=America/New_York:20240113T120000
DTEND;TZID=America/New_York:20240113T170000
DTSTAMP:20260424T202719
CREATED:20231229T170044Z
LAST-MODIFIED:20231229T170044Z
UID:8089-1705147200-1705165200@lansbrooktampabay.com
SUMMARY:Pavilion Reservation - Chenoweth
DESCRIPTION:The Lakefront Park Pavilion is \n  \nRESERVED \n  \nSunday\, January 13\, 2024 \n12:00 pm – 5:00 pm \n  \nFor: \nJennifer Chenoweth
URL:https://lansbrooktampabay.com/event/pavilion-reservation-chenoweth/
LOCATION:Lake Front Pavilion
CATEGORIES:Reservation
END:VEVENT
BEGIN:VEVENT
DTSTART;TZID=America/New_York:20240113T183000
DTEND;TZID=America/New_York:20240113T213000
DTSTAMP:20260424T202719
CREATED:20231227T151042Z
LAST-MODIFIED:20231227T151042Z
UID:8049-1705170600-1705181400@lansbrooktampabay.com
SUMMARY:Lansbrook Movie Night
DESCRIPTION:
URL:https://lansbrooktampabay.com/event/lansbrook-movie-night/
CATEGORIES:Movie Night
END:VEVENT
END:VCALENDAR