BEGIN:VCALENDAR
VERSION:2.0
PRODID:-//Lansbrook - ECPv6.13.2.1//NONSGML v1.0//EN
CALSCALE:GREGORIAN
METHOD:PUBLISH
X-WR-CALNAME:Lansbrook
X-ORIGINAL-URL:https://lansbrooktampabay.com
X-WR-CALDESC:Events for Lansbrook
REFRESH-INTERVAL;VALUE=DURATION:PT1H
X-Robots-Tag:noindex
X-PUBLISHED-TTL:PT1H
BEGIN:VTIMEZONE
TZID:America/New_York
BEGIN:DAYLIGHT
TZOFFSETFROM:-0500
TZOFFSETTO:-0400
TZNAME:EDT
DTSTART:20240310T070000
END:DAYLIGHT
BEGIN:STANDARD
TZOFFSETFROM:-0400
TZOFFSETTO:-0500
TZNAME:EST
DTSTART:20241103T060000
END:STANDARD
END:VTIMEZONE
BEGIN:VEVENT
DTSTART;VALUE=DATE:20240511
DTEND;VALUE=DATE:20240512
DTSTAMP:20260424T123801
CREATED:20231227T153533Z
LAST-MODIFIED:20231227T153957Z
UID:8072-1715385600-1715471999@lansbrooktampabay.com
SUMMARY:Mother's Day at YMCA
DESCRIPTION:
URL:https://lansbrooktampabay.com/event/mothers-day-at-ymca/
CATEGORIES:Holiday
END:VEVENT
BEGIN:VEVENT
DTSTART;TZID=America/New_York:20240511T110000
DTEND;TZID=America/New_York:20240511T170000
DTSTAMP:20260424T123801
CREATED:20240509T171554Z
LAST-MODIFIED:20240509T171555Z
UID:8210-1715425200-1715446800@lansbrooktampabay.com
SUMMARY:Pavilion Reservation - Cooper
DESCRIPTION:The Lakefront Park Pavilion is \n  \nRESERVED \n  \nSaturday\, May 11\, 2024 \n11:00 am – 5:00 pm \n  \nFor: \nBrad Cooper
URL:https://lansbrooktampabay.com/event/pavilion-reservation-cooper-2/
LOCATION:Lake Front Pavilion
CATEGORIES:Reservation
END:VEVENT
END:VCALENDAR