BEGIN:VCALENDAR
VERSION:2.0
PRODID:-//Lansbrook - ECPv6.13.2.1//NONSGML v1.0//EN
CALSCALE:GREGORIAN
METHOD:PUBLISH
X-WR-CALNAME:Lansbrook
X-ORIGINAL-URL:https://lansbrooktampabay.com
X-WR-CALDESC:Events for Lansbrook
REFRESH-INTERVAL;VALUE=DURATION:PT1H
X-Robots-Tag:noindex
X-PUBLISHED-TTL:PT1H
BEGIN:VTIMEZONE
TZID:America/New_York
BEGIN:DAYLIGHT
TZOFFSETFROM:-0500
TZOFFSETTO:-0400
TZNAME:EDT
DTSTART:20250309T070000
END:DAYLIGHT
BEGIN:STANDARD
TZOFFSETFROM:-0400
TZOFFSETTO:-0500
TZNAME:EST
DTSTART:20251102T060000
END:STANDARD
END:VTIMEZONE
BEGIN:VEVENT
DTSTART;TZID=America/New_York:20250405T100000
DTEND;TZID=America/New_York:20250405T150000
DTSTAMP:20260423T171933
CREATED:20250113T211844Z
LAST-MODIFIED:20250113T211845Z
UID:8432-1743847200-1743865200@lansbrooktampabay.com
SUMMARY:Pavilion Request - McMeekin
DESCRIPTION:The Lakefront Park Pavilion is \nRESERVED \nSaturday\, April 5\, 2024\n10:00 am – 3:00 pm \nFor:\nLaura McMeekin
URL:https://lansbrooktampabay.com/event/pavilion-request-mcmeekin/
LOCATION:Lake Front Pavilion
CATEGORIES:Reservation
END:VEVENT
END:VCALENDAR