BEGIN:VCALENDAR
VERSION:2.0
PRODID:-//Lansbrook - ECPv6.13.2.1//NONSGML v1.0//EN
CALSCALE:GREGORIAN
METHOD:PUBLISH
X-ORIGINAL-URL:https://lansbrooktampabay.com
X-WR-CALDESC:Events for Lansbrook
REFRESH-INTERVAL;VALUE=DURATION:PT1H
X-Robots-Tag:noindex
X-PUBLISHED-TTL:PT1H
BEGIN:VTIMEZONE
TZID:UTC
BEGIN:STANDARD
TZOFFSETFROM:+0000
TZOFFSETTO:+0000
TZNAME:UTC
DTSTART:20230101T000000
END:STANDARD
END:VTIMEZONE
BEGIN:VEVENT
DTSTART;TZID=UTC:20230828T190000
DTEND;TZID=UTC:20230828T210000
DTSTAMP:20260425T065443
CREATED:20230321T185834Z
LAST-MODIFIED:20230321T185834Z
UID:7903-1693249200-1693256400@lansbrooktampabay.com
SUMMARY:August 2023 Board Meeting
DESCRIPTION:https://zoom.us/j/3073370525?pwd=K3lLc1pFV2hUSjJURUtpMW1UTDBHQT09 \nMeeting ID: 307 337 0525 \nPasscode: 388432 \nPhone (646) 558-8656
URL:https://lansbrooktampabay.com/event/august-2023-board-meeting/
CATEGORIES:Meetings
END:VEVENT
END:VCALENDAR