BEGIN:VCALENDAR
VERSION:2.0
PRODID:-//Lansbrook - ECPv6.13.2.1//NONSGML v1.0//EN
CALSCALE:GREGORIAN
METHOD:PUBLISH
X-WR-CALNAME:Lansbrook
X-ORIGINAL-URL:https://lansbrooktampabay.com
X-WR-CALDESC:Events for Lansbrook
REFRESH-INTERVAL;VALUE=DURATION:PT1H
X-Robots-Tag:noindex
X-PUBLISHED-TTL:PT1H
BEGIN:VTIMEZONE
TZID:America/New_York
BEGIN:DAYLIGHT
TZOFFSETFROM:-0500
TZOFFSETTO:-0400
TZNAME:EDT
DTSTART:20250309T070000
END:DAYLIGHT
BEGIN:STANDARD
TZOFFSETFROM:-0400
TZOFFSETTO:-0500
TZNAME:EST
DTSTART:20251102T060000
END:STANDARD
BEGIN:DAYLIGHT
TZOFFSETFROM:-0500
TZOFFSETTO:-0400
TZNAME:EDT
DTSTART:20260308T070000
END:DAYLIGHT
BEGIN:STANDARD
TZOFFSETFROM:-0400
TZOFFSETTO:-0500
TZNAME:EST
DTSTART:20261101T060000
END:STANDARD
END:VTIMEZONE
BEGIN:VEVENT
DTSTART;TZID=America/New_York:20250224T190000
DTEND;TZID=America/New_York:20250224T200000
DTSTAMP:20260425T065943
CREATED:20241223T160425Z
LAST-MODIFIED:20241223T160425Z
UID:8393-1740423600-1740427200@lansbrooktampabay.com
SUMMARY:Lansbrook Master Association Board of Directors Meeting
DESCRIPTION:Lansbrook Master Association\, Inc.\n2025 Board of Directors Meeting Schedule\nAll meetings will be on the 4th Monday at 7:00 p.m. except where noted.\nAll meetings are held via Zoom and phone unless modified\nhttps://zoom.us/j/3073370525?pwd=K3lLc1pFV2hUSjJURUtpMW1UTDBHQT09\nMeeting ID: 307 337 0525\nPasscode: 388432\nPhone (646) 558-8656
URL:https://lansbrooktampabay.com/event/lansbrook-master-association-board-of-directors-meeting-2/
CATEGORIES:Meetings
END:VEVENT
BEGIN:VEVENT
DTSTART;TZID=America/New_York:20250324T190000
DTEND;TZID=America/New_York:20250324T200000
DTSTAMP:20260425T065943
CREATED:20241223T160529Z
LAST-MODIFIED:20241223T160529Z
UID:8395-1742842800-1742846400@lansbrooktampabay.com
SUMMARY:Lansbrook Master Association Board of Directors Meeting
DESCRIPTION:Lansbrook Master Association\, Inc.\n2025 Board of Directors Meeting Schedule\nAll meetings will be on the 4th Monday at 7:00 p.m. except where noted.\nAll meetings are held via Zoom and phone unless modified\nhttps://zoom.us/j/3073370525?pwd=K3lLc1pFV2hUSjJURUtpMW1UTDBHQT09\nMeeting ID: 307 337 0525\nPasscode: 388432\nPhone (646) 558-8656
URL:https://lansbrooktampabay.com/event/lansbrook-master-association-board-of-directors-meeting-3/
CATEGORIES:Meetings
END:VEVENT
BEGIN:VEVENT
DTSTART;TZID=America/New_York:20250428T190000
DTEND;TZID=America/New_York:20250428T200000
DTSTAMP:20260425T065943
CREATED:20241223T160604Z
LAST-MODIFIED:20241223T160604Z
UID:8397-1745866800-1745870400@lansbrooktampabay.com
SUMMARY:Lansbrook Master Association Board of Directors Meeting
DESCRIPTION:Lansbrook Master Association\, Inc.\n2025 Board of Directors Meeting Schedule\nAll meetings will be on the 4th Monday at 7:00 p.m. except where noted.\nAll meetings are held via Zoom and phone unless modified\nhttps://zoom.us/j/3073370525?pwd=K3lLc1pFV2hUSjJURUtpMW1UTDBHQT09\nMeeting ID: 307 337 0525\nPasscode: 388432\nPhone (646) 558-8656
URL:https://lansbrooktampabay.com/event/lansbrook-master-association-board-of-directors-meeting-4/
CATEGORIES:Meetings
END:VEVENT
BEGIN:VEVENT
DTSTART;TZID=America/New_York:20250519T190000
DTEND;TZID=America/New_York:20250519T200000
DTSTAMP:20260425T065943
CREATED:20241223T160715Z
LAST-MODIFIED:20241223T160715Z
UID:8399-1747681200-1747684800@lansbrooktampabay.com
SUMMARY:Lansbrook Master Association Board of Directors Meeting
DESCRIPTION:Lansbrook Master Association\, Inc.\n2025 Board of Directors Meeting Schedule\nAll meetings will be on the 4th Monday at 7:00 p.m. except where noted.\nAll meetings are held via Zoom and phone unless modified\nhttps://zoom.us/j/3073370525?pwd=K3lLc1pFV2hUSjJURUtpMW1UTDBHQT09\nMeeting ID: 307 337 0525\nPasscode: 388432\nPhone (646) 558-8656
URL:https://lansbrooktampabay.com/event/lansbrook-master-association-board-of-directors-meeting-5/
CATEGORIES:Meetings
END:VEVENT
BEGIN:VEVENT
DTSTART;TZID=America/New_York:20250623T190000
DTEND;TZID=America/New_York:20250623T200000
DTSTAMP:20260425T065943
CREATED:20241223T160804Z
LAST-MODIFIED:20241223T160804Z
UID:8401-1750705200-1750708800@lansbrooktampabay.com
SUMMARY:Lansbrook Master Association Board of Directors Meeting
DESCRIPTION:Lansbrook Master Association\, Inc.\n2025 Board of Directors Meeting Schedule\nAll meetings will be on the 4th Monday at 7:00 p.m. except where noted.\nAll meetings are held via Zoom and phone unless modified\nhttps://zoom.us/j/3073370525?pwd=K3lLc1pFV2hUSjJURUtpMW1UTDBHQT09\nMeeting ID: 307 337 0525\nPasscode: 388432\nPhone (646) 558-8656
URL:https://lansbrooktampabay.com/event/lansbrook-master-association-board-of-directors-meeting-6/
CATEGORIES:Meetings
END:VEVENT
BEGIN:VEVENT
DTSTART;TZID=America/New_York:20250728T190000
DTEND;TZID=America/New_York:20250728T200000
DTSTAMP:20260425T065943
CREATED:20241223T160842Z
LAST-MODIFIED:20241223T160842Z
UID:8403-1753729200-1753732800@lansbrooktampabay.com
SUMMARY:Lansbrook Master Association Board of Directors Meeting
DESCRIPTION:Lansbrook Master Association\, Inc.\n2025 Board of Directors Meeting Schedule\nAll meetings will be on the 4th Monday at 7:00 p.m. except where noted.\nAll meetings are held via Zoom and phone unless modified\nhttps://zoom.us/j/3073370525?pwd=K3lLc1pFV2hUSjJURUtpMW1UTDBHQT09\nMeeting ID: 307 337 0525\nPasscode: 388432\nPhone (646) 558-8656
URL:https://lansbrooktampabay.com/event/lansbrook-master-association-board-of-directors-meeting-7/
CATEGORIES:Meetings
END:VEVENT
BEGIN:VEVENT
DTSTART;TZID=America/New_York:20250825T190000
DTEND;TZID=America/New_York:20250825T200000
DTSTAMP:20260425T065943
CREATED:20241223T160913Z
LAST-MODIFIED:20241223T160913Z
UID:8405-1756148400-1756152000@lansbrooktampabay.com
SUMMARY:Lansbrook Master Association Board of Directors Meeting
DESCRIPTION:Lansbrook Master Association\, Inc.\n2025 Board of Directors Meeting Schedule\nAll meetings will be on the 4th Monday at 7:00 p.m. except where noted.\nAll meetings are held via Zoom and phone unless modified\nhttps://zoom.us/j/3073370525?pwd=K3lLc1pFV2hUSjJURUtpMW1UTDBHQT09\nMeeting ID: 307 337 0525\nPasscode: 388432\nPhone (646) 558-8656
URL:https://lansbrooktampabay.com/event/lansbrook-master-association-board-of-directors-meeting-8/
CATEGORIES:Meetings
END:VEVENT
BEGIN:VEVENT
DTSTART;TZID=America/New_York:20250922T190000
DTEND;TZID=America/New_York:20250922T200000
DTSTAMP:20260425T065943
CREATED:20241223T160948Z
LAST-MODIFIED:20241223T161521Z
UID:8407-1758567600-1758571200@lansbrooktampabay.com
SUMMARY:Lansbrook Master Association Board of Directors Budget Meeting
DESCRIPTION:Lansbrook Master Association\, Inc.\n2025 Board of Directors Meeting Schedule\nAll meetings will be on the 4th Monday at 7:00 p.m. except where noted.\nAll meetings are held via Zoom and phone unless modified\nhttps://zoom.us/j/3073370525?pwd=K3lLc1pFV2hUSjJURUtpMW1UTDBHQT09\nMeeting ID: 307 337 0525\nPasscode: 388432\nPhone (646) 558-8656
URL:https://lansbrooktampabay.com/event/lansbrook-master-association-board-of-directors-meeting-9/
CATEGORIES:Meetings
END:VEVENT
BEGIN:VEVENT
DTSTART;TZID=America/New_York:20251027T190000
DTEND;TZID=America/New_York:20251027T200000
DTSTAMP:20260425T065943
CREATED:20241223T161048Z
LAST-MODIFIED:20241223T161048Z
UID:8409-1761591600-1761595200@lansbrooktampabay.com
SUMMARY:Lansbrook Master Association Board of Directors Meeting
DESCRIPTION:Lansbrook Master Association\, Inc.\n2025 Board of Directors Meeting Schedule\nAll meetings will be on the 4th Monday at 7:00 p.m. except where noted.\nAll meetings are held via Zoom and phone unless modified\nhttps://zoom.us/j/3073370525?pwd=K3lLc1pFV2hUSjJURUtpMW1UTDBHQT09\nMeeting ID: 307 337 0525\nPasscode: 388432\nPhone (646) 558-8656
URL:https://lansbrooktampabay.com/event/lansbrook-master-association-board-of-directors-meeting-10/
CATEGORIES:Meetings
END:VEVENT
BEGIN:VEVENT
DTSTART;TZID=America/New_York:20251117T190000
DTEND;TZID=America/New_York:20251117T200000
DTSTAMP:20260425T065943
CREATED:20241223T161130Z
LAST-MODIFIED:20241223T161220Z
UID:8411-1763406000-1763409600@lansbrooktampabay.com
SUMMARY:Lansbrook Master Association Annual\, Organizational  and Board of Directors Meeting
DESCRIPTION:Lansbrook Master Association\, Inc.\n2025 Board of Directors Meeting Schedule\nAll meetings will be on the 4th Monday at 7:00 p.m. except where noted.\nAll meetings are held via Zoom and phone unless modified\nhttps://zoom.us/j/3073370525?pwd=K3lLc1pFV2hUSjJURUtpMW1UTDBHQT09\nMeeting ID: 307 337 0525\nPasscode: 388432\nPhone (646) 558-8656
URL:https://lansbrooktampabay.com/event/lansbrook-master-association-board-of-directors-meeting-11/
CATEGORIES:Meetings
END:VEVENT
BEGIN:VEVENT
DTSTART;TZID=America/New_York:20251215T190000
DTEND;TZID=America/New_York:20251215T200000
DTSTAMP:20260425T065943
CREATED:20241223T161415Z
LAST-MODIFIED:20251211T122856Z
UID:8414-1765825200-1765828800@lansbrooktampabay.com
SUMMARY:Lansbrook Master Association Board of Directors Meeting
DESCRIPTION:The meeting has been canceled. \nLansbrook Master Association\, Inc.\n2025 Board of Directors Meeting Schedule
URL:https://lansbrooktampabay.com/event/lansbrook-master-association-board-of-directors-meeting-12/
CATEGORIES:Meetings
END:VEVENT
BEGIN:VEVENT
DTSTART;TZID=America/New_York:20260126T190000
DTEND;TZID=America/New_York:20260126T190000
DTSTAMP:20260425T065943
CREATED:20260127T183106Z
LAST-MODIFIED:20260127T183116Z
UID:8800-1769454000-1769454000@lansbrooktampabay.com
SUMMARY:Board of Directors Meeting
DESCRIPTION:All meetings will be at 7:00 p.m. except where noted.\nAll meetings are held via Zoom and phone unless modified\nhttps://zoom.us/j/3073370525?pwd=K3lLc1pFV2hUSjJURUtpMW1UTDBHQT09\nMeeting ID: 307 337 0525\nPasscode: 388432\nPhone (646) 558-8656
URL:https://lansbrooktampabay.com/event/board-of-directors-mee0ng/
CATEGORIES:Meetings
END:VEVENT
BEGIN:VEVENT
DTSTART;TZID=America/New_York:20260126T190000
DTEND;TZID=America/New_York:20260126T200000
DTSTAMP:20260425T065943
CREATED:20260122T024049Z
LAST-MODIFIED:20260122T024333Z
UID:8743-1769454000-1769457600@lansbrooktampabay.com
SUMMARY:Lansbrook Master Association Board of Directors Meeting
DESCRIPTION:Lansbrook Master Association\, Inc.\n2026 Board of Directors Meeting Schedule\nAll meetings will be on the 4th Monday at 7:00 p.m. except where noted.\nAll meetings are held via Zoom and phone unless modified\nhttps://zoom.us/j/3073370525?pwd=K3lLc1pFV2hUSjJURUtpMW1UTDBHQT09\nMeeting ID: 307 337 0525\nPasscode: 388432\nPhone (646) 558-8656
URL:https://lansbrooktampabay.com/event/lansbrook-master-association-board-of-directors-meeting-13/
CATEGORIES:Meetings
END:VEVENT
BEGIN:VEVENT
DTSTART;TZID=America/New_York:20260223T190000
DTEND;TZID=America/New_York:20260223T190000
DTSTAMP:20260425T065943
CREATED:20260127T183157Z
LAST-MODIFIED:20260127T183157Z
UID:8804-1771873200-1771873200@lansbrooktampabay.com
SUMMARY:Board of Directors Meeting
DESCRIPTION:All meetings will be at 7:00 p.m. except where noted.\nAll meetings are held via Zoom and phone unless modified\nhttps://zoom.us/j/3073370525?pwd=K3lLc1pFV2hUSjJURUtpMW1UTDBHQT09\nMeeting ID: 307 337 0525\nPasscode: 388432\nPhone (646) 558-8656
URL:https://lansbrooktampabay.com/event/board-of-directors-meeting-11/
CATEGORIES:Meetings
END:VEVENT
BEGIN:VEVENT
DTSTART;TZID=America/New_York:20260323T190000
DTEND;TZID=America/New_York:20260323T190000
DTSTAMP:20260425T065943
CREATED:20260127T183216Z
LAST-MODIFIED:20260127T183216Z
UID:8806-1774292400-1774292400@lansbrooktampabay.com
SUMMARY:Board of Directors Meeting
DESCRIPTION:All meetings will be at 7:00 p.m. except where noted.\nAll meetings are held via Zoom and phone unless modified\nhttps://zoom.us/j/3073370525?pwd=K3lLc1pFV2hUSjJURUtpMW1UTDBHQT09\nMeeting ID: 307 337 0525\nPasscode: 388432\nPhone (646) 558-8656
URL:https://lansbrooktampabay.com/event/board-of-directors-meeting-12/
CATEGORIES:Meetings
END:VEVENT
BEGIN:VEVENT
DTSTART;TZID=America/New_York:20260427T190000
DTEND;TZID=America/New_York:20260427T190000
DTSTAMP:20260425T065943
CREATED:20260127T183318Z
LAST-MODIFIED:20260127T183318Z
UID:8808-1777316400-1777316400@lansbrooktampabay.com
SUMMARY:Board of Directors Meeting
DESCRIPTION:All meetings will be at 7:00 p.m. except where noted.\nAll meetings are held via Zoom and phone unless modified\nhttps://zoom.us/j/3073370525?pwd=K3lLc1pFV2hUSjJURUtpMW1UTDBHQT09\nMeeting ID: 307 337 0525\nPasscode: 388432\nPhone (646) 558-8656
URL:https://lansbrooktampabay.com/event/board-of-directors-meeting-13/
CATEGORIES:Meetings
END:VEVENT
BEGIN:VEVENT
DTSTART;TZID=America/New_York:20260518T190000
DTEND;TZID=America/New_York:20260518T190000
DTSTAMP:20260425T065943
CREATED:20260127T183332Z
LAST-MODIFIED:20260127T183332Z
UID:8810-1779130800-1779130800@lansbrooktampabay.com
SUMMARY:Board of Directors Meeting
DESCRIPTION:All meetings will be at 7:00 p.m. except where noted.\nAll meetings are held via Zoom and phone unless modified\nhttps://zoom.us/j/3073370525?pwd=K3lLc1pFV2hUSjJURUtpMW1UTDBHQT09\nMeeting ID: 307 337 0525\nPasscode: 388432\nPhone (646) 558-8656
URL:https://lansbrooktampabay.com/event/board-of-directors-meeting-14/
CATEGORIES:Meetings
END:VEVENT
BEGIN:VEVENT
DTSTART;TZID=America/New_York:20260622T190000
DTEND;TZID=America/New_York:20260622T190000
DTSTAMP:20260425T065943
CREATED:20260127T183346Z
LAST-MODIFIED:20260127T183346Z
UID:8812-1782154800-1782154800@lansbrooktampabay.com
SUMMARY:Board of Directors Meeting
DESCRIPTION:All meetings will be at 7:00 p.m. except where noted.\nAll meetings are held via Zoom and phone unless modified\nhttps://zoom.us/j/3073370525?pwd=K3lLc1pFV2hUSjJURUtpMW1UTDBHQT09\nMeeting ID: 307 337 0525\nPasscode: 388432\nPhone (646) 558-8656
URL:https://lansbrooktampabay.com/event/board-of-directors-meeting-15/
CATEGORIES:Meetings
END:VEVENT
BEGIN:VEVENT
DTSTART;TZID=America/New_York:20260727T190000
DTEND;TZID=America/New_York:20260727T190000
DTSTAMP:20260425T065943
CREATED:20260127T183359Z
LAST-MODIFIED:20260127T183359Z
UID:8814-1785178800-1785178800@lansbrooktampabay.com
SUMMARY:Board of Directors Meeting
DESCRIPTION:All meetings will be at 7:00 p.m. except where noted.\nAll meetings are held via Zoom and phone unless modified\nhttps://zoom.us/j/3073370525?pwd=K3lLc1pFV2hUSjJURUtpMW1UTDBHQT09\nMeeting ID: 307 337 0525\nPasscode: 388432\nPhone (646) 558-8656
URL:https://lansbrooktampabay.com/event/board-of-directors-meeting-16/
CATEGORIES:Meetings
END:VEVENT
BEGIN:VEVENT
DTSTART;TZID=America/New_York:20260824T190000
DTEND;TZID=America/New_York:20260824T190000
DTSTAMP:20260425T065943
CREATED:20260127T183412Z
LAST-MODIFIED:20260127T183412Z
UID:8816-1787598000-1787598000@lansbrooktampabay.com
SUMMARY:Board of Directors Meeting
DESCRIPTION:All meetings will be at 7:00 p.m. except where noted.\nAll meetings are held via Zoom and phone unless modified\nhttps://zoom.us/j/3073370525?pwd=K3lLc1pFV2hUSjJURUtpMW1UTDBHQT09\nMeeting ID: 307 337 0525\nPasscode: 388432\nPhone (646) 558-8656
URL:https://lansbrooktampabay.com/event/board-of-directors-meeting-17/
CATEGORIES:Meetings
END:VEVENT
BEGIN:VEVENT
DTSTART;TZID=America/New_York:20260928T190000
DTEND;TZID=America/New_York:20260928T190000
DTSTAMP:20260425T065943
CREATED:20260127T183458Z
LAST-MODIFIED:20260127T183458Z
UID:8818-1790622000-1790622000@lansbrooktampabay.com
SUMMARY:Board of Directors Meeting (Includes Budget Meeting)
DESCRIPTION:All meetings will be at 7:00 p.m. except where noted.\nAll meetings are held via Zoom and phone unless modified\nhttps://zoom.us/j/3073370525?pwd=K3lLc1pFV2hUSjJURUtpMW1UTDBHQT09\nMeeting ID: 307 337 0525\nPasscode: 388432\nPhone (646) 558-8656
URL:https://lansbrooktampabay.com/event/board-of-directors-meeting-includes-budget-meeting/
CATEGORIES:Meetings
END:VEVENT
BEGIN:VEVENT
DTSTART;TZID=America/New_York:20261026T190000
DTEND;TZID=America/New_York:20261026T190000
DTSTAMP:20260425T065943
CREATED:20260127T183520Z
LAST-MODIFIED:20260127T183520Z
UID:8820-1793041200-1793041200@lansbrooktampabay.com
SUMMARY:Board of Directors Meeting
DESCRIPTION:All meetings will be at 7:00 p.m. except where noted.\nAll meetings are held via Zoom and phone unless modified\nhttps://zoom.us/j/3073370525?pwd=K3lLc1pFV2hUSjJURUtpMW1UTDBHQT09\nMeeting ID: 307 337 0525\nPasscode: 388432\nPhone (646) 558-8656
URL:https://lansbrooktampabay.com/event/board-of-directors-meeting-18/
CATEGORIES:Meetings
END:VEVENT
BEGIN:VEVENT
DTSTART;TZID=America/New_York:20261116T190000
DTEND;TZID=America/New_York:20261116T190000
DTSTAMP:20260425T065943
CREATED:20260127T183542Z
LAST-MODIFIED:20260127T183542Z
UID:8822-1794855600-1794855600@lansbrooktampabay.com
SUMMARY:Board of Directors Meeting (Includes Annual Meeting and Organizational Meeting)
DESCRIPTION:All meetings will be at 7:00 p.m. except where noted.\nAll meetings are held via Zoom and phone unless modified\nhttps://zoom.us/j/3073370525?pwd=K3lLc1pFV2hUSjJURUtpMW1UTDBHQT09\nMeeting ID: 307 337 0525\nPasscode: 388432\nPhone (646) 558-8656
URL:https://lansbrooktampabay.com/event/board-of-directors-meeting-includes-annual-meeting-and-organizational-meeting/
CATEGORIES:Meetings
END:VEVENT
BEGIN:VEVENT
DTSTART;TZID=America/New_York:20261221T190000
DTEND;TZID=America/New_York:20261221T190000
DTSTAMP:20260425T065943
CREATED:20260127T183559Z
LAST-MODIFIED:20260127T183559Z
UID:8824-1797879600-1797879600@lansbrooktampabay.com
SUMMARY:Board of Directors Meeting
DESCRIPTION:All meetings will be at 7:00 p.m. except where noted.\nAll meetings are held via Zoom and phone unless modified\nhttps://zoom.us/j/3073370525?pwd=K3lLc1pFV2hUSjJURUtpMW1UTDBHQT09\nMeeting ID: 307 337 0525\nPasscode: 388432\nPhone (646) 558-8656
URL:https://lansbrooktampabay.com/event/board-of-directors-meeting-19/
CATEGORIES:Meetings
END:VEVENT
END:VCALENDAR