BEGIN:VCALENDAR
VERSION:2.0
PRODID:-//Lansbrook - ECPv6.13.2.1//NONSGML v1.0//EN
CALSCALE:GREGORIAN
METHOD:PUBLISH
X-WR-CALNAME:Lansbrook
X-ORIGINAL-URL:https://lansbrooktampabay.com
X-WR-CALDESC:Events for Lansbrook
REFRESH-INTERVAL;VALUE=DURATION:PT1H
X-Robots-Tag:noindex
X-PUBLISHED-TTL:PT1H
BEGIN:VTIMEZONE
TZID:America/New_York
BEGIN:DAYLIGHT
TZOFFSETFROM:-0500
TZOFFSETTO:-0400
TZNAME:EDT
DTSTART:20250309T070000
END:DAYLIGHT
BEGIN:STANDARD
TZOFFSETFROM:-0400
TZOFFSETTO:-0500
TZNAME:EST
DTSTART:20251102T060000
END:STANDARD
END:VTIMEZONE
BEGIN:VEVENT
DTSTART;TZID=America/New_York:20251116T123000
DTEND;TZID=America/New_York:20251116T160000
DTSTAMP:20260423T090702
CREATED:20250212T172510Z
LAST-MODIFIED:20250212T172511Z
UID:8508-1763296200-1763308800@lansbrooktampabay.com
SUMMARY:Pavilion Reservation- Meyers
DESCRIPTION:The Lakefront Park Pavilion is \nRESERVED \nSunday\, November 16\, 2025\n12:45 pm – 4:00 pm \nFor:\nPaula Meyers
URL:https://lansbrooktampabay.com/event/pavilion-reservation-meyers/
LOCATION:Lake Front Pavilion
CATEGORIES:Reservation
END:VEVENT
BEGIN:VEVENT
DTSTART;TZID=America/New_York:20251121T170000
DTEND;TZID=America/New_York:20251121T210000
DTSTAMP:20260423T090702
CREATED:20250812T180840Z
LAST-MODIFIED:20250812T180840Z
UID:8642-1763744400-1763758800@lansbrooktampabay.com
SUMMARY:11/21/25-Reservation- Luff
DESCRIPTION:The Lakefront Park Pavilion is\nRESERVED\nFriday\, November 21\, 2025\n5:00 pm – 9:00 pm\nFor:\nHannah Luff
URL:https://lansbrooktampabay.com/event/11-21-25-reservation-luff/
CATEGORIES:Reservation
END:VEVENT
BEGIN:VEVENT
DTSTART;VALUE=DATE:20251127
DTEND;VALUE=DATE:20251128
DTSTAMP:20260423T090702
CREATED:20250123T194059Z
LAST-MODIFIED:20250123T194100Z
UID:8468-1764201600-1764287999@lansbrooktampabay.com
SUMMARY:5th Annual Thanksgiving Turkey Trot
DESCRIPTION:
URL:https://lansbrooktampabay.com/event/5th-annual-thanksgiving-turkey-trot/
LOCATION:Lake Front Pavilion
CATEGORIES:Holiday,Reservation
END:VEVENT
END:VCALENDAR