BEGIN:VCALENDAR
VERSION:2.0
PRODID:-//Lansbrook - ECPv6.13.2.1//NONSGML v1.0//EN
CALSCALE:GREGORIAN
METHOD:PUBLISH
X-ORIGINAL-URL:https://lansbrooktampabay.com
X-WR-CALDESC:Events for Lansbrook
REFRESH-INTERVAL;VALUE=DURATION:PT1H
X-Robots-Tag:noindex
X-PUBLISHED-TTL:PT1H
BEGIN:VTIMEZONE
TZID:America/New_York
BEGIN:DAYLIGHT
TZOFFSETFROM:-0500
TZOFFSETTO:-0400
TZNAME:EDT
DTSTART:20260308T070000
END:DAYLIGHT
BEGIN:STANDARD
TZOFFSETFROM:-0400
TZOFFSETTO:-0500
TZNAME:EST
DTSTART:20261101T060000
END:STANDARD
END:VTIMEZONE
BEGIN:VEVENT
DTSTART;TZID=America/New_York:20260207T140000
DTEND;TZID=America/New_York:20260207T160000
DTSTAMP:20260423T043705
CREATED:20260126T171430Z
LAST-MODIFIED:20260126T171431Z
UID:8760-1770472800-1770480000@lansbrooktampabay.com
SUMMARY:Pavilion Reserved on February 7th\, 2026
DESCRIPTION:The Lakefront Park Pavilion is: \nRESERVED \nSaturday\, February 7th\, 2026 \nFrom: 2:00 PM to 4:00 PM \nFor:  Laura E. Simon
URL:https://lansbrooktampabay.com/event/pavilion-reserved-on-february-7th-2026/
CATEGORIES:Reservation
END:VEVENT
END:VCALENDAR