BEGIN:VCALENDAR
VERSION:2.0
PRODID:-//Lansbrook - ECPv6.13.2.1//NONSGML v1.0//EN
CALSCALE:GREGORIAN
METHOD:PUBLISH
X-WR-CALNAME:Lansbrook
X-ORIGINAL-URL:https://lansbrooktampabay.com
X-WR-CALDESC:Events for Lansbrook
REFRESH-INTERVAL;VALUE=DURATION:PT1H
X-Robots-Tag:noindex
X-PUBLISHED-TTL:PT1H
BEGIN:VTIMEZONE
TZID:America/New_York
BEGIN:DAYLIGHT
TZOFFSETFROM:-0500
TZOFFSETTO:-0400
TZNAME:EDT
DTSTART:20240310T070000
END:DAYLIGHT
BEGIN:STANDARD
TZOFFSETFROM:-0400
TZOFFSETTO:-0500
TZNAME:EST
DTSTART:20241103T060000
END:STANDARD
BEGIN:DAYLIGHT
TZOFFSETFROM:-0500
TZOFFSETTO:-0400
TZNAME:EDT
DTSTART:20250309T070000
END:DAYLIGHT
BEGIN:STANDARD
TZOFFSETFROM:-0400
TZOFFSETTO:-0500
TZNAME:EST
DTSTART:20251102T060000
END:STANDARD
END:VTIMEZONE
BEGIN:VEVENT
DTSTART;VALUE=DATE:20250530
DTEND;VALUE=DATE:20250531
DTSTAMP:20260423T032023
CREATED:20250123T192246Z
LAST-MODIFIED:20250409T185110Z
UID:8459-1748563200-1748649599@lansbrooktampabay.com
SUMMARY:End of School Party 05/30/2025
DESCRIPTION:Lansbrook Events:\nEnd of School Party\nFriday\, May 30\, 2025
URL:https://lansbrooktampabay.com/event/end-of-school-party-05-29-2025/
LOCATION:Lake Front Pavilion
CATEGORIES:Reservation
END:VEVENT
BEGIN:VEVENT
DTSTART;TZID=America/New_York:20250529T120000
DTEND;TZID=America/New_York:20250529T140000
DTSTAMP:20260423T032023
CREATED:20250516T174527Z
LAST-MODIFIED:20250528T233827Z
UID:8583-1748520000-1748527200@lansbrooktampabay.com
SUMMARY:Pavilion Reservation- 5/29/25- Houck
DESCRIPTION:The Lakefront Park Pavilion is\nRESERVED\nThursday\, May 29\, 2025\n12:00pm – 5:00 pm\nFor:\nGregory Houck
URL:https://lansbrooktampabay.com/event/pavilion-reservation-5-29-25-houck/
CATEGORIES:Reservation
END:VEVENT
BEGIN:VEVENT
DTSTART;TZID=America/New_York:20250526T113000
DTEND;TZID=America/New_York:20250526T160000
DTSTAMP:20260423T032023
CREATED:20250225T202347Z
LAST-MODIFIED:20250225T202347Z
UID:8523-1748259000-1748275200@lansbrooktampabay.com
SUMMARY:Pavilion Reservation 05/26/2025- Jennings
DESCRIPTION:The Lakefront Park Pavilion is\nRESERVED\nMonday\, May 26\, 2025\n11:30 am – 4:00 pm\nFor:\nSandra Jennings
URL:https://lansbrooktampabay.com/event/pavilion-reservation-05-26-2025-jennings/
CATEGORIES:Reservation
END:VEVENT
BEGIN:VEVENT
DTSTART;TZID=America/New_York:20250503T100000
DTEND;TZID=America/New_York:20250503T173000
DTSTAMP:20260423T032023
CREATED:20250212T165108Z
LAST-MODIFIED:20250212T165318Z
UID:8506-1746266400-1746293400@lansbrooktampabay.com
SUMMARY:Pavilion Reservation- Cooper
DESCRIPTION:The Lakefront Park Pavilion is \nRESERVED \nSaturday\, May 3\, 2025\n10:00 am – 5:30 pm \nFor:\nBrad Cooper
URL:https://lansbrooktampabay.com/event/pavilion-reservation-cooper-3/
LOCATION:Lake Front Pavilion
CATEGORIES:Reservation
END:VEVENT
BEGIN:VEVENT
DTSTART;TZID=America/New_York:20250426T160000
DTEND;TZID=America/New_York:20250426T190000
DTSTAMP:20260423T032023
CREATED:20250407T182244Z
LAST-MODIFIED:20250424T172716Z
UID:8558-1745683200-1745694000@lansbrooktampabay.com
SUMMARY:Pavilion Reservation 4/26/25-Jones
DESCRIPTION:The Lakefront Park Pavilion is\nRESERVED\nSaturday\, April 26\, 2025\n4:00 pm – 7:00 pm\nMemorial Service for\nCarol Joyce Devore Donaldson
URL:https://lansbrooktampabay.com/event/pavilion-reservation-4-26-25-jones/
CATEGORIES:Reservation
END:VEVENT
BEGIN:VEVENT
DTSTART;TZID=America/New_York:20250406T120000
DTEND;TZID=America/New_York:20250406T160000
DTSTAMP:20260423T032023
CREATED:20250313T195702Z
LAST-MODIFIED:20250313T195702Z
UID:8540-1743940800-1743955200@lansbrooktampabay.com
SUMMARY:4/6/2025-Pavilion Reservation-Wehner
DESCRIPTION:The Lakefront Park Pavilion is\nRESERVED\nSunday\, April 6\, 2025\n12:00 pm – 4:00 pm\nFor:\nDavid Wehner
URL:https://lansbrooktampabay.com/event/4-6-2025-pavilion-reservation-wehner/
CATEGORIES:Reservation
END:VEVENT
BEGIN:VEVENT
DTSTART;TZID=America/New_York:20250405T100000
DTEND;TZID=America/New_York:20250405T150000
DTSTAMP:20260423T032023
CREATED:20250113T211844Z
LAST-MODIFIED:20250113T211845Z
UID:8432-1743847200-1743865200@lansbrooktampabay.com
SUMMARY:Pavilion Request - McMeekin
DESCRIPTION:The Lakefront Park Pavilion is \nRESERVED \nSaturday\, April 5\, 2024\n10:00 am – 3:00 pm \nFor:\nLaura McMeekin
URL:https://lansbrooktampabay.com/event/pavilion-request-mcmeekin/
LOCATION:Lake Front Pavilion
CATEGORIES:Reservation
END:VEVENT
BEGIN:VEVENT
DTSTART;TZID=America/New_York:20250329T150000
DTEND;TZID=America/New_York:20250329T170000
DTSTAMP:20260423T032023
CREATED:20250209T182326Z
LAST-MODIFIED:20250209T182326Z
UID:8500-1743260400-1743267600@lansbrooktampabay.com
SUMMARY:Pavilion Reservation-03/29/2025- Swank
DESCRIPTION:The Lakefront Park Pavilion is \nRESERVED \nSaturday\, March 29\, 2025\n3:00 pm – 5:00 pm \nFor:\nNoelle Swank
URL:https://lansbrooktampabay.com/event/pavilion-reservation-03-29-2025-swank/
CATEGORIES:Reservation
END:VEVENT
BEGIN:VEVENT
DTSTART;TZID=America/New_York:20250329T093000
DTEND;TZID=America/New_York:20250329T130000
DTSTAMP:20260423T032023
CREATED:20250221T005602Z
LAST-MODIFIED:20250221T005602Z
UID:8519-1743240600-1743253200@lansbrooktampabay.com
SUMMARY:Pavilion Reservation 3/29/25-Jennings
DESCRIPTION:The Lakefront Park Pavilion is\nRESERVED\nSaturday\, March 29\, 2025\n9:30 am – 1:00 pm\nFor:\nSandra Jennings
URL:https://lansbrooktampabay.com/event/pavilion-reservation-3-29-25-jennings/
LOCATION:Lake Front Pavilion
CATEGORIES:Reservation
END:VEVENT
BEGIN:VEVENT
DTSTART;TZID=America/New_York:20250309T160000
DTEND;TZID=America/New_York:20250309T180000
DTSTAMP:20260423T032023
CREATED:20250228T183733Z
LAST-MODIFIED:20250228T183733Z
UID:8538-1741536000-1741543200@lansbrooktampabay.com
SUMMARY:Pavilion Reservation 03/09/2025- Lewis
DESCRIPTION:The Lakefront Park Pavilion is\nRESERVED\nSunday March 9\, 2025\n4pm – 6pm\nFor:\nLora Lewis
URL:https://lansbrooktampabay.com/event/pavilion-reservation-03-09-2025-lewis/
CATEGORIES:Reservation
END:VEVENT
BEGIN:VEVENT
DTSTART;TZID=America/New_York:20250308T090000
DTEND;TZID=America/New_York:20250308T130000
DTSTAMP:20260423T032023
CREATED:20250107T205254Z
LAST-MODIFIED:20250107T205254Z
UID:8430-1741424400-1741438800@lansbrooktampabay.com
SUMMARY:Pavilion Reservation - Garff
DESCRIPTION:The Lakefront Park Pavilion is \nRESERVED \nSaturday\, March 8\, 2025\n9:00 am – 1:00 pm \nFor:\nAdam Garff
URL:https://lansbrooktampabay.com/event/pavilion-reservation-garff/
LOCATION:Lake Front Pavilion
CATEGORIES:Reservation
END:VEVENT
BEGIN:VEVENT
DTSTART;TZID=America/New_York:20250223T120000
DTEND;TZID=America/New_York:20250223T150000
DTSTAMP:20260423T032023
CREATED:20250204T205033Z
LAST-MODIFIED:20250204T205034Z
UID:8496-1740312000-1740322800@lansbrooktampabay.com
SUMMARY:Pavilion Reservation- Kelley
DESCRIPTION:The Lakefront Park Pavilion is \nRESERVED \nSunday\, February 23\, 2025\n12:00 pm – 3:00 pm \nFor:\nKeith Kelley
URL:https://lansbrooktampabay.com/event/pavilion-reservation-kelley/
CATEGORIES:Reservation
END:VEVENT
BEGIN:VEVENT
DTSTART;TZID=America/New_York:20250222T140000
DTEND;TZID=America/New_York:20250222T190000
DTSTAMP:20260423T032023
CREATED:20241016T160351Z
LAST-MODIFIED:20241213T155951Z
UID:8337-1740232800-1740250800@lansbrooktampabay.com
SUMMARY:Pavilion Reservation - Horning
DESCRIPTION:The Lakefront Park Pavilion is \nRESERVED \nSaturday\, February 22\, 2025\n2:00 pm – 7:00 pm \nFor:\nTammy Horning
URL:https://lansbrooktampabay.com/event/pavilion-reservation-horning/
LOCATION:Lake Front Pavilion
CATEGORIES:Reservation
END:VEVENT
BEGIN:VEVENT
DTSTART;TZID=America/New_York:20250213T180000
DTEND;TZID=America/New_York:20250213T190000
DTSTAMP:20260423T032023
CREATED:20250203T160027Z
LAST-MODIFIED:20250203T160028Z
UID:8485-1739469600-1739473200@lansbrooktampabay.com
SUMMARY:Pavilion Reservation-Karlesky
DESCRIPTION:The Lakefront Park Pavilion is \nRESERVED \nThursday\, February 13\, 2025\n6:00 pm – 7:00 pm \nFor:\nSarah Karlesky
URL:https://lansbrooktampabay.com/event/pavilion-reservation-karlesky-3/
LOCATION:Lake Front Pavilion
CATEGORIES:Reservation
END:VEVENT
BEGIN:VEVENT
DTSTART;TZID=America/New_York:20250208T140000
DTEND;TZID=America/New_York:20250208T160000
DTSTAMP:20260423T032023
CREATED:20250206T200525Z
LAST-MODIFIED:20250206T200525Z
UID:8498-1739023200-1739030400@lansbrooktampabay.com
SUMMARY:Pavilion Reservation-Simon
DESCRIPTION:The Lakefront Park Pavilion is \nRESERVED \nSaturday\, February 8\, 2025\n2:00 pm – 4:00 pm \nFor:\nLaura Simon
URL:https://lansbrooktampabay.com/event/pavilion-reservation-simon/
CATEGORIES:Reservation
END:VEVENT
BEGIN:VEVENT
DTSTART;TZID=America/New_York:20250205T093000
DTEND;TZID=America/New_York:20250205T123000
DTSTAMP:20260423T032023
CREATED:20250107T175506Z
LAST-MODIFIED:20250107T175506Z
UID:8426-1738747800-1738758600@lansbrooktampabay.com
SUMMARY:Pavilion Reservation -Jennings
DESCRIPTION:The Lakefront Park Pavilion is \nRESERVED \nWednesday\, February 5\, 2025\n9:30 am – 12:30 pm \nFor:\nBrian Jennings
URL:https://lansbrooktampabay.com/event/pavilion-reservation-jennings-6/
LOCATION:Lake Front Pavilion
CATEGORIES:Reservation
END:VEVENT
BEGIN:VEVENT
DTSTART;TZID=America/New_York:20250202T100000
DTEND;TZID=America/New_York:20250202T130000
DTSTAMP:20260423T032023
CREATED:20250123T184447Z
LAST-MODIFIED:20250123T184447Z
UID:8440-1738490400-1738501200@lansbrooktampabay.com
SUMMARY:Pavilion Reservation - Gittino
DESCRIPTION:The Lakefront Park Pavilion is \nRESERVED \nSunday\, February 02\, 2024\n10:00 am – 1:00 pm \nFor:\nRichard Gittino
URL:https://lansbrooktampabay.com/event/pavilion-reservation-gittino/
LOCATION:Lake Front Pavilion
CATEGORIES:Reservation
END:VEVENT
BEGIN:VEVENT
DTSTART;TZID=America/New_York:20250126T130000
DTEND;TZID=America/New_York:20250126T160000
DTSTAMP:20260423T032023
CREATED:20250107T191714Z
LAST-MODIFIED:20250107T191715Z
UID:8428-1737896400-1737907200@lansbrooktampabay.com
SUMMARY:Pavilion Reservation - Munuhe
DESCRIPTION:The Lakefront Park Pavilion is \nRESERVED \nSunday\, January 26\, 2025\n1:00 am – 4:00 pm \nFor:\nMelissa Munuhe
URL:https://lansbrooktampabay.com/event/pavilion-reservation-munuhe-2/
LOCATION:Lake Front Pavilion
CATEGORIES:Reservation
END:VEVENT
BEGIN:VEVENT
DTSTART;TZID=America/New_York:20241229T120000
DTEND;TZID=America/New_York:20241229T160000
DTSTAMP:20260423T032023
CREATED:20240529T131808Z
LAST-MODIFIED:20240529T144152Z
UID:8212-1735473600-1735488000@lansbrooktampabay.com
SUMMARY:Pavilion Reservation - Adams
DESCRIPTION:The Lakefront Park Pavilion is \n  \nRESERVED \n  \nSaturday\, December 29\, 2024 \n12:00 am – 4:00 pm \n  \nFor: \nJane Adams
URL:https://lansbrooktampabay.com/event/pavilion-reservation-adams/
LOCATION:Lake Front Pavilion
CATEGORIES:Reservation
END:VEVENT
BEGIN:VEVENT
DTSTART;TZID=America/New_York:20241222T123000
DTEND;TZID=America/New_York:20241222T173000
DTSTAMP:20260423T032023
CREATED:20241125T161656Z
LAST-MODIFIED:20241127T150515Z
UID:8369-1734870600-1734888600@lansbrooktampabay.com
SUMMARY:Pavilion Reservation - Nicolas
DESCRIPTION:The Lakefront Park Pavilion is \nRESERVED \nSunday\, December 22nd\, 2024\n12:30 pm – 5:30 pm \nFor:\nHany Nicolas
URL:https://lansbrooktampabay.com/event/pavilion-reservation-nicolas/
CATEGORIES:Reservation
END:VEVENT
BEGIN:VEVENT
DTSTART;TZID=America/New_York:20241221T120000
DTEND;TZID=America/New_York:20241221T150000
DTSTAMP:20260423T032023
CREATED:20241127T152149Z
LAST-MODIFIED:20241127T152150Z
UID:8372-1734782400-1734793200@lansbrooktampabay.com
SUMMARY:Pavilion Reservation - Kerestury
DESCRIPTION:The Lakefront Park Pavilion is \nRESERVED \nSaturday\, December 21st\, 2024\n12:00 pm – 3:00 pm \nFor:\nColleen Kerestury
URL:https://lansbrooktampabay.com/event/pavilion-reservation-kerestury/
LOCATION:Lake Front Pavilion
CATEGORIES:Reservation
END:VEVENT
BEGIN:VEVENT
DTSTART;TZID=America/New_York:20241219T180000
DTEND;TZID=America/New_York:20241219T190000
DTSTAMP:20260423T032023
CREATED:20241206T164722Z
LAST-MODIFIED:20241206T164722Z
UID:8379-1734631200-1734634800@lansbrooktampabay.com
SUMMARY:Pavilion Reservation - Karlesky
DESCRIPTION:The Lakefront Park Pavilion is \nRESERVED \nThursday\, December 19th\, 2024\n6:00 pm – 7:00 pm \nFor:\nSarah Karlesky
URL:https://lansbrooktampabay.com/event/pavilion-reservation-karlesky-2/
LOCATION:Lake Front Pavilion
CATEGORIES:Reservation
END:VEVENT
BEGIN:VEVENT
DTSTART;TZID=America/New_York:20241214T100000
DTEND;TZID=America/New_York:20241214T170000
DTSTAMP:20260423T032023
CREATED:20241125T151857Z
LAST-MODIFIED:20241125T151857Z
UID:8367-1734170400-1734195600@lansbrooktampabay.com
SUMMARY:Pavilion Reservation - Hughes
DESCRIPTION:The Lakefront Park Pavilion is \nRESERVED \nSaturday\, December 14th\, 2024\n10:00 am – 5:00 pm \nFor:\nSozan Hughes
URL:https://lansbrooktampabay.com/event/pavilion-reservation-hughes-2/
LOCATION:Lake Front Pavilion
CATEGORIES:Reservation
END:VEVENT
BEGIN:VEVENT
DTSTART;TZID=America/New_York:20241204T163000
DTEND;TZID=America/New_York:20241204T183000
DTSTAMP:20260423T032023
CREATED:20241017T173528Z
LAST-MODIFIED:20241017T173529Z
UID:8343-1733329800-1733337000@lansbrooktampabay.com
SUMMARY:Pavilion Reservation - Paredes
DESCRIPTION:The Lakefront Park Pavilion is \nRESERVED \nWednesday\, December 4\, 2024\n4:30 pm – 6:30 pm \nFor:\nRebecca Paredes
URL:https://lansbrooktampabay.com/event/pavilion-reservation-paredes-7/
CATEGORIES:Reservation
END:VEVENT
BEGIN:VEVENT
DTSTART;TZID=America/New_York:20241123T110000
DTEND;TZID=America/New_York:20241123T160000
DTSTAMP:20260423T032023
CREATED:20241112T194117Z
LAST-MODIFIED:20241112T194117Z
UID:8365-1732359600-1732377600@lansbrooktampabay.com
SUMMARY:Pavilion Reservation - Jennings
DESCRIPTION:The Lakefront Park Pavilion is \nRESERVED \nSaturday\, November 23\, 2024\n11:00 pm – 4:00 pm \nFor:\nSandra Jennings
URL:https://lansbrooktampabay.com/event/pavilion-reservation-jennings-5/
LOCATION:Lake Front Pavilion
CATEGORIES:Reservation
END:VEVENT
BEGIN:VEVENT
DTSTART;TZID=America/New_York:20241121T180000
DTEND;TZID=America/New_York:20241121T190000
DTSTAMP:20260423T032023
CREATED:20241106T174420Z
LAST-MODIFIED:20241106T174420Z
UID:8358-1732212000-1732215600@lansbrooktampabay.com
SUMMARY:Pavilion reservation - Karlesky
DESCRIPTION:The Lakefront Park Pavilion is \nRESERVED \nThursday\, November 21\, 2024\n6:00 pm – 7:00 pm \nFor:\nSarah Karlesky
URL:https://lansbrooktampabay.com/event/pavilion-reservation-karlesky/
LOCATION:Lake Front Pavilion
CATEGORIES:Reservation
END:VEVENT
BEGIN:VEVENT
DTSTART;TZID=America/New_York:20241113T163000
DTEND;TZID=America/New_York:20241113T183000
DTSTAMP:20260423T032023
CREATED:20241017T173419Z
LAST-MODIFIED:20241017T173419Z
UID:8341-1731515400-1731522600@lansbrooktampabay.com
SUMMARY:Pavilion Reservation - Paredes
DESCRIPTION:The Lakefront Park Pavilion is \nRESERVED \nWednesday\, November 13\, 2024\n4:30 pm – 6:30 pm \nFor:\nRebecca Paredes
URL:https://lansbrooktampabay.com/event/pavilion-reservation-paredes-6/
LOCATION:Lake Front Pavilion
CATEGORIES:Reservation
END:VEVENT
BEGIN:VEVENT
DTSTART;TZID=America/New_York:20241103T130000
DTEND;TZID=America/New_York:20241103T150000
DTSTAMP:20260423T032023
CREATED:20241002T143628Z
LAST-MODIFIED:20241002T143629Z
UID:8335-1730638800-1730646000@lansbrooktampabay.com
SUMMARY:Pavilion Reservation - Lascano
DESCRIPTION:The Lakefront Park Pavilion is \nRESERVED \nSunday\, November 3\, 2024\n1:00 pm – 3:00 pm \nFor:\nAnastasia Lascano
URL:https://lansbrooktampabay.com/event/pavilion-reservation-lascano/
LOCATION:Lake Front Pavilion
CATEGORIES:Reservation
END:VEVENT
BEGIN:VEVENT
DTSTART;TZID=America/New_York:20241030T163000
DTEND;TZID=America/New_York:20241030T183000
DTSTAMP:20260423T032023
CREATED:20241017T173311Z
LAST-MODIFIED:20241017T173312Z
UID:8339-1730305800-1730313000@lansbrooktampabay.com
SUMMARY:Pavilion Reservation - Paredes
DESCRIPTION:The Lakefront Park Pavilion is \nRESERVED \nWednesday\, October 30\, 2024\n4:30 pm – 6:30 pm \nFor:\nRebecca Paredes
URL:https://lansbrooktampabay.com/event/pavilion-reservation-paredes-5/
LOCATION:Lake Front Pavilion
CATEGORIES:Reservation
END:VEVENT
BEGIN:VEVENT
DTSTART;TZID=America/New_York:20241027T093000
DTEND;TZID=America/New_York:20241027T123000
DTSTAMP:20260423T032023
CREATED:20241002T143507Z
LAST-MODIFIED:20241002T143508Z
UID:8333-1730021400-1730032200@lansbrooktampabay.com
SUMMARY:Pavilion Reservation
DESCRIPTION:The Lakefront Park Pavilion is \nRESERVED \nSunday\, October 27\, 2024\n9:30 am – 12:30 pm \nFor:\nBrian Jennings
URL:https://lansbrooktampabay.com/event/pavilion-reservation-3/
LOCATION:Lake Front Pavilion
CATEGORIES:Reservation
END:VEVENT
END:VCALENDAR