BEGIN:VCALENDAR
VERSION:2.0
PRODID:-//Lansbrook - ECPv6.13.2.1//NONSGML v1.0//EN
CALSCALE:GREGORIAN
METHOD:PUBLISH
X-WR-CALNAME:Lansbrook
X-ORIGINAL-URL:https://lansbrooktampabay.com
X-WR-CALDESC:Events for Lansbrook
REFRESH-INTERVAL;VALUE=DURATION:PT1H
X-Robots-Tag:noindex
X-PUBLISHED-TTL:PT1H
BEGIN:VTIMEZONE
TZID:UTC
BEGIN:STANDARD
TZOFFSETFROM:+0000
TZOFFSETTO:+0000
TZNAME:UTC
DTSTART:20220101T000000
END:STANDARD
END:VTIMEZONE
BEGIN:VTIMEZONE
TZID:America/New_York
BEGIN:DAYLIGHT
TZOFFSETFROM:-0500
TZOFFSETTO:-0400
TZNAME:EDT
DTSTART:20220313T070000
END:DAYLIGHT
BEGIN:STANDARD
TZOFFSETFROM:-0400
TZOFFSETTO:-0500
TZNAME:EST
DTSTART:20221106T060000
END:STANDARD
END:VTIMEZONE
BEGIN:VEVENT
DTSTART;TZID=UTC:20230828T190000
DTEND;TZID=UTC:20230828T210000
DTSTAMP:20260423T195507
CREATED:20230321T185834Z
LAST-MODIFIED:20230321T185834Z
UID:7903-1693249200-1693256400@lansbrooktampabay.com
SUMMARY:August 2023 Board Meeting
DESCRIPTION:https://zoom.us/j/3073370525?pwd=K3lLc1pFV2hUSjJURUtpMW1UTDBHQT09 \nMeeting ID: 307 337 0525 \nPasscode: 388432 \nPhone (646) 558-8656
URL:https://lansbrooktampabay.com/event/august-2023-board-meeting/
CATEGORIES:Meetings
END:VEVENT
BEGIN:VEVENT
DTSTART;TZID=UTC:20230724T190000
DTEND;TZID=UTC:20230724T210000
DTSTAMP:20260423T195507
CREATED:20230321T185653Z
LAST-MODIFIED:20230321T185722Z
UID:7900-1690225200-1690232400@lansbrooktampabay.com
SUMMARY:July 2023 Board Meeting
DESCRIPTION:https://zoom.us/j/3073370525?pwd=K3lLc1pFV2hUSjJURUtpMW1UTDBHQT09 \nMeeting ID: 307 337 0525 \nPasscode: 388432 \nPhone (646) 558-8656
URL:https://lansbrooktampabay.com/event/july-2023-board-meeting/
CATEGORIES:Meetings
END:VEVENT
BEGIN:VEVENT
DTSTART;TZID=UTC:20230626T190000
DTEND;TZID=UTC:20230626T210000
DTSTAMP:20260423T195507
CREATED:20230321T185523Z
LAST-MODIFIED:20230321T185523Z
UID:7898-1687806000-1687813200@lansbrooktampabay.com
SUMMARY:June 2023 Board Meeting
DESCRIPTION:https://zoom.us/j/3073370525?pwd=K3lLc1pFV2hUSjJURUtpMW1UTDBHQT09 \nMeeting ID: 307 337 0525 \nPasscode: 388432 \nPhone (646) 558-8656
URL:https://lansbrooktampabay.com/event/june-2023-board-meeting-2/
CATEGORIES:Meetings
END:VEVENT
BEGIN:VEVENT
DTSTART;TZID=UTC:20230626T190000
DTEND;TZID=UTC:20230626T210000
DTSTAMP:20260423T195507
CREATED:20230321T185423Z
LAST-MODIFIED:20230321T185423Z
UID:7896-1687806000-1687813200@lansbrooktampabay.com
SUMMARY:June 2023 Board Meeting
DESCRIPTION:https://zoom.us/j/3073370525?pwd=K3lLc1pFV2hUSjJURUtpMW1UTDBHQT09 \nMeeting ID: 307 337 0525 \nPasscode: 388432 \nPhone (646) 558-8656
URL:https://lansbrooktampabay.com/event/june-2023-board-meeting/
CATEGORIES:Meetings
END:VEVENT
BEGIN:VEVENT
DTSTART;TZID=UTC:20230617T120000
DTEND;TZID=UTC:20230617T170000
DTSTAMP:20260423T195507
CREATED:20230321T183419Z
LAST-MODIFIED:20230321T183419Z
UID:7885-1687003200-1687021200@lansbrooktampabay.com
SUMMARY:Father's Day Make & Take
DESCRIPTION:
URL:https://lansbrooktampabay.com/event/fathers-day-make-take/
CATEGORIES:Holiday
END:VEVENT
BEGIN:VEVENT
DTSTART;TZID=UTC:20230603T120000
DTEND;TZID=UTC:20230603T170000
DTSTAMP:20260423T195507
CREATED:20230321T190501Z
LAST-MODIFIED:20230322T184843Z
UID:7917-1685793600-1685811600@lansbrooktampabay.com
SUMMARY:Pavilion Reservation - Heinisch
DESCRIPTION:
URL:https://lansbrooktampabay.com/event/pavilion-reservation-heinisch/
CATEGORIES:Reservation
END:VEVENT
BEGIN:VEVENT
DTSTART;TZID=UTC:20230522T190000
DTEND;TZID=UTC:20230522T210000
DTSTAMP:20260423T195507
CREATED:20230321T182929Z
LAST-MODIFIED:20230321T182929Z
UID:7879-1684782000-1684789200@lansbrooktampabay.com
SUMMARY:May 2023 Board Meeting
DESCRIPTION:https://zoom.us/j/3073370525?pwd=K3lLc1pFV2hUSjJURUtpMW1UTDBHQT09 \nMeeting ID: 307 337 0525 \nPasscode: 388432 \nPhone (646) 558-8656
URL:https://lansbrooktampabay.com/event/may-2023-board-meeting/
CATEGORIES:Meetings
END:VEVENT
BEGIN:VEVENT
DTSTART;TZID=UTC:20230513T100000
DTEND;TZID=UTC:20230513T120000
DTSTAMP:20260423T195507
CREATED:20230321T183324Z
LAST-MODIFIED:20230321T183324Z
UID:7883-1683972000-1683979200@lansbrooktampabay.com
SUMMARY:Mother's Day Make & Take
DESCRIPTION:
URL:https://lansbrooktampabay.com/event/mothers-day-make-take/
CATEGORIES:Holiday
END:VEVENT
BEGIN:VEVENT
DTSTART;VALUE=DATE:20230429
DTEND;VALUE=DATE:20230430
DTSTAMP:20260423T195507
CREATED:20230321T190347Z
LAST-MODIFIED:20230322T184901Z
UID:7913-1682726400-1682812799@lansbrooktampabay.com
SUMMARY:Pavilion Reservation - Cooper
DESCRIPTION:
URL:https://lansbrooktampabay.com/event/pavilion-reservation-cooper/
CATEGORIES:Reservation
END:VEVENT
BEGIN:VEVENT
DTSTART;TZID=UTC:20230424T190000
DTEND;TZID=UTC:20230424T210000
DTSTAMP:20260423T195507
CREATED:20230321T182840Z
LAST-MODIFIED:20230321T182840Z
UID:7877-1682362800-1682370000@lansbrooktampabay.com
SUMMARY:April 2023 Board Meeting
DESCRIPTION:https://zoom.us/j/3073370525?pwd=K3lLc1pFV2hUSjJURUtpMW1UTDBHQT09 \nMeeting ID: 307 337 0525 \nPasscode: 388432 \nPhone (646) 558-8656
URL:https://lansbrooktampabay.com/event/april-2023-board-meeting/
CATEGORIES:Meetings
END:VEVENT
BEGIN:VEVENT
DTSTART;TZID=UTC:20230415T190000
DTEND;TZID=UTC:20230415T220000
DTSTAMP:20260423T195507
CREATED:20230321T183149Z
LAST-MODIFIED:20230321T183149Z
UID:7881-1681585200-1681596000@lansbrooktampabay.com
SUMMARY:Adult Night at the Park
DESCRIPTION:
URL:https://lansbrooktampabay.com/event/adult-night-at-the-park/
END:VEVENT
BEGIN:VEVENT
DTSTART;TZID=UTC:20230409T010000
DTEND;TZID=UTC:20230409T150000
DTSTAMP:20260423T195507
CREATED:20230321T190303Z
LAST-MODIFIED:20230322T184919Z
UID:7911-1681002000-1681052400@lansbrooktampabay.com
SUMMARY:Pavilion Reservation - Richardson
DESCRIPTION:
URL:https://lansbrooktampabay.com/event/pavilion-reservation-richardson/
LOCATION:Lake Front Pavilion
CATEGORIES:Reservation
END:VEVENT
BEGIN:VEVENT
DTSTART;TZID=UTC:20230402T130000
DTEND;TZID=UTC:20230402T180000
DTSTAMP:20260423T195507
CREATED:20230321T184911Z
LAST-MODIFIED:20230322T184945Z
UID:7893-1680440400-1680458400@lansbrooktampabay.com
SUMMARY:Pavilion Reservation - Gregory Houck
DESCRIPTION:
URL:https://lansbrooktampabay.com/event/pavilion-reservation-gregory-houck/
LOCATION:Lake Front Pavilion
CATEGORIES:Reservation
END:VEVENT
BEGIN:VEVENT
DTSTART;TZID=UTC:20230327T190000
DTEND;TZID=UTC:20230327T210000
DTSTAMP:20260423T195507
CREATED:20230321T182742Z
LAST-MODIFIED:20230321T182742Z
UID:7875-1679943600-1679950800@lansbrooktampabay.com
SUMMARY:March 2023 Board Meeting
DESCRIPTION:https://zoom.us/j/3073370525?pwd=K3lLc1pFV2hUSjJURUtpMW1UTDBHQT09 \nMeeting ID: 307 337 0525 \nPasscode: 388432 \nPhone (646) 558-8656
URL:https://lansbrooktampabay.com/event/march-2023-board-meeting/
CATEGORIES:Meetings
END:VEVENT
BEGIN:VEVENT
DTSTART;TZID=UTC:20230324T180000
DTEND;TZID=UTC:20230324T210000
DTSTAMP:20260423T195507
CREATED:20230321T174123Z
LAST-MODIFIED:20230321T174123Z
UID:7872-1679680800-1679691600@lansbrooktampabay.com
SUMMARY:Movie Night
DESCRIPTION:
URL:https://lansbrooktampabay.com/event/movie-night/
LOCATION:Lakefront Park Lawn
END:VEVENT
BEGIN:VEVENT
DTSTART;TZID=UTC:20221219T190000
DTEND;TZID=UTC:20221219T190000
DTSTAMP:20260423T195507
CREATED:20220325T021522Z
LAST-MODIFIED:20220325T021522Z
UID:7693-1671476400-1671476400@lansbrooktampabay.com
SUMMARY:Board of Directors Meeting
DESCRIPTION:All meetings held via Zoom and Phone unless modified: \nZoom: https://zoom.us/j/3073370525?pwd=K3lLc1pFV2hUSjJURUtpMW1UTDBHQT09 \nMeeting ID: 307 337 0525 \nPasscode: 388432 \nPhone 646 558 8656 US
URL:https://lansbrooktampabay.com/event/board-of-directors-meeting-10/
CATEGORIES:Meetings
END:VEVENT
BEGIN:VEVENT
DTSTART;TZID=UTC:20221128T190000
DTEND;TZID=UTC:20221128T190000
DTSTAMP:20260423T195507
CREATED:20220325T021454Z
LAST-MODIFIED:20220325T021454Z
UID:7691-1669662000-1669662000@lansbrooktampabay.com
SUMMARY:Board of Directors Meeting
DESCRIPTION:All meetings held via Zoom and Phone unless modified: \nZoom: https://zoom.us/j/3073370525?pwd=K3lLc1pFV2hUSjJURUtpMW1UTDBHQT09 \nMeeting ID: 307 337 0525 \nPasscode: 388432 \nPhone 646 558 8656 US
URL:https://lansbrooktampabay.com/event/board-of-directors-meeting-9/
CATEGORIES:Meetings
END:VEVENT
BEGIN:VEVENT
DTSTART;TZID=UTC:20221111T180000
DTEND;TZID=UTC:20221111T203000
DTSTAMP:20260423T195507
CREATED:20220325T015401Z
LAST-MODIFIED:20220325T015401Z
UID:7663-1668189600-1668198600@lansbrooktampabay.com
SUMMARY:Movie
DESCRIPTION:Join us in Lakefront Park for a family friendly Movie Night\, starting promptly at 6:30. Be sure to bring a blanket or chairs.
URL:https://lansbrooktampabay.com/event/movie-4/
CATEGORIES:Movie Night
END:VEVENT
BEGIN:VEVENT
DTSTART;TZID=UTC:20221024T190000
DTEND;TZID=UTC:20221024T190000
DTSTAMP:20260423T195507
CREATED:20220325T021422Z
LAST-MODIFIED:20220325T021422Z
UID:7689-1666638000-1666638000@lansbrooktampabay.com
SUMMARY:Board of Directors Meeting
DESCRIPTION:All meetings held via Zoom and Phone unless modified: \nZoom: https://zoom.us/j/3073370525?pwd=K3lLc1pFV2hUSjJURUtpMW1UTDBHQT09 \nMeeting ID: 307 337 0525 \nPasscode: 388432 \nPhone 646 558 8656 US
URL:https://lansbrooktampabay.com/event/board-of-directors-meeting-8/
CATEGORIES:Meetings
END:VEVENT
BEGIN:VEVENT
DTSTART;TZID=UTC:20221021T180000
DTEND;TZID=UTC:20221021T203000
DTSTAMP:20260423T195507
CREATED:20220325T015328Z
LAST-MODIFIED:20220325T015328Z
UID:7661-1666375200-1666384200@lansbrooktampabay.com
SUMMARY:Movie
DESCRIPTION:Join us in Lakefront Park for a family friendly Movie Night\, starting promptly at 6:30. Be sure to bring a blanket or chairs.
URL:https://lansbrooktampabay.com/event/movie-3/
CATEGORIES:Movie Night
END:VEVENT
BEGIN:VEVENT
DTSTART;TZID=UTC:20220926T190000
DTEND;TZID=UTC:20220926T190000
DTSTAMP:20260423T195507
CREATED:20220325T020801Z
LAST-MODIFIED:20220325T020905Z
UID:7680-1664218800-1664218800@lansbrooktampabay.com
SUMMARY:Board of Directors Meeting
DESCRIPTION:Includes Budget Meeting \nAll meetings held via Zoom and Phone unless modified: \nZoom: https://zoom.us/j/3073370525?pwd=K3lLc1pFV2hUSjJURUtpMW1UTDBHQT09 \nMeeting ID: 307 337 0525 \nPasscode: 388432 \nPhone 646 558 8656 US
URL:https://lansbrooktampabay.com/event/board-of-directors-meeting-6/
CATEGORIES:Meetings
END:VEVENT
BEGIN:VEVENT
DTSTART;TZID=America/New_York:20220924T130000
DTEND;TZID=America/New_York:20220924T160000
DTSTAMP:20260423T195507
CREATED:20220415T194126Z
LAST-MODIFIED:20220415T194126Z
UID:7753-1664024400-1664035200@lansbrooktampabay.com
SUMMARY:Pavilion Reservation
DESCRIPTION:
URL:https://lansbrooktampabay.com/event/pavilion-reservation-2/
END:VEVENT
BEGIN:VEVENT
DTSTART;TZID=UTC:20220822T190000
DTEND;TZID=UTC:20220822T190000
DTSTAMP:20260423T195507
CREATED:20220325T020801Z
LAST-MODIFIED:20220325T020934Z
UID:7679-1661194800-1661194800@lansbrooktampabay.com
SUMMARY:Board of Directors Meeting
DESCRIPTION:All meetings held via Zoom and Phone unless modified: \nZoom: https://zoom.us/j/3073370525?pwd=K3lLc1pFV2hUSjJURUtpMW1UTDBHQT09 \nMeeting ID: 307 337 0525 \nPasscode: 388432 \nPhone 646 558 8656 US
URL:https://lansbrooktampabay.com/event/board-of-directors-meeting-5/
CATEGORIES:Meetings
END:VEVENT
BEGIN:VEVENT
DTSTART;TZID=UTC:20220725T190000
DTEND;TZID=UTC:20220725T190000
DTSTAMP:20260423T195507
CREATED:20220325T020801Z
LAST-MODIFIED:20220325T020938Z
UID:7678-1658775600-1658775600@lansbrooktampabay.com
SUMMARY:Board of Directors Meeting
DESCRIPTION:All meetings held via Zoom and Phone unless modified: \nZoom: https://zoom.us/j/3073370525?pwd=K3lLc1pFV2hUSjJURUtpMW1UTDBHQT09 \nMeeting ID: 307 337 0525 \nPasscode: 388432 \nPhone 646 558 8656 US
URL:https://lansbrooktampabay.com/event/board-of-directors-meeting-4/
CATEGORIES:Meetings
END:VEVENT
BEGIN:VEVENT
DTSTART;TZID=UTC:20220627T190000
DTEND;TZID=UTC:20220627T190000
DTSTAMP:20260423T195507
CREATED:20220325T020801Z
LAST-MODIFIED:20220325T020942Z
UID:7677-1656356400-1656356400@lansbrooktampabay.com
SUMMARY:Board of Directors Meeting
DESCRIPTION:All meetings held via Zoom and Phone unless modified: \nZoom: https://zoom.us/j/3073370525?pwd=K3lLc1pFV2hUSjJURUtpMW1UTDBHQT09 \nMeeting ID: 307 337 0525 \nPasscode: 388432 \nPhone 646 558 8656 US
URL:https://lansbrooktampabay.com/event/board-of-directors-meeting-3/
CATEGORIES:Meetings
END:VEVENT
BEGIN:VEVENT
DTSTART;VALUE=DATE:20220618
DTEND;VALUE=DATE:20220619
DTSTAMP:20260423T195507
CREATED:20220325T015515Z
LAST-MODIFIED:20220325T015515Z
UID:7667-1655510400-1655596799@lansbrooktampabay.com
SUMMARY:Father’s Day Craft
DESCRIPTION:
URL:https://lansbrooktampabay.com/event/fathers-day-craft/
CATEGORIES:Holiday
END:VEVENT
BEGIN:VEVENT
DTSTART;TZID=UTC:20220611T100000
DTEND;TZID=UTC:20220611T170000
DTSTAMP:20260423T195507
CREATED:20220420T181713Z
LAST-MODIFIED:20220420T181713Z
UID:7768-1654941600-1654966800@lansbrooktampabay.com
SUMMARY:Pavilion Reserved
DESCRIPTION:
URL:https://lansbrooktampabay.com/event/pavilion-reserved-8/
END:VEVENT
BEGIN:VEVENT
DTSTART;TZID=America/New_York:20220530T103000
DTEND;TZID=America/New_York:20220530T140000
DTSTAMP:20260423T195507
CREATED:20220518T191009Z
LAST-MODIFIED:20220518T191009Z
UID:7781-1653906600-1653919200@lansbrooktampabay.com
SUMMARY:Pavilion Reserved
DESCRIPTION:
URL:https://lansbrooktampabay.com/event/pavilion-reserved-12/
END:VEVENT
BEGIN:VEVENT
DTSTART;TZID=America/New_York:20220527T090000
DTEND;TZID=America/New_York:20220527T130000
DTSTAMP:20260423T195507
CREATED:20220518T190855Z
LAST-MODIFIED:20220518T190855Z
UID:7777-1653642000-1653656400@lansbrooktampabay.com
SUMMARY:Pavilion Reserved
DESCRIPTION:
URL:https://lansbrooktampabay.com/event/pavilion-reserved-11/
END:VEVENT
BEGIN:VEVENT
DTSTART;TZID=America/New_York:20220526T120000
DTEND;TZID=America/New_York:20220526T170000
DTSTAMP:20260423T195507
CREATED:20220518T190758Z
LAST-MODIFIED:20220518T190758Z
UID:7774-1653566400-1653584400@lansbrooktampabay.com
SUMMARY:Pavilion Reserved
DESCRIPTION:
URL:https://lansbrooktampabay.com/event/pavilion-reserved-10/
END:VEVENT
END:VCALENDAR