BEGIN:VCALENDAR
VERSION:2.0
PRODID:-//Lansbrook - ECPv6.13.2.1//NONSGML v1.0//EN
CALSCALE:GREGORIAN
METHOD:PUBLISH
X-WR-CALNAME:Lansbrook
X-ORIGINAL-URL:https://lansbrooktampabay.com
X-WR-CALDESC:Events for Lansbrook
REFRESH-INTERVAL;VALUE=DURATION:PT1H
X-Robots-Tag:noindex
X-PUBLISHED-TTL:PT1H
BEGIN:VTIMEZONE
TZID:America/New_York
BEGIN:DAYLIGHT
TZOFFSETFROM:-0500
TZOFFSETTO:-0400
TZNAME:EDT
DTSTART:20220313T070000
END:DAYLIGHT
BEGIN:STANDARD
TZOFFSETFROM:-0400
TZOFFSETTO:-0500
TZNAME:EST
DTSTART:20221106T060000
END:STANDARD
END:VTIMEZONE
BEGIN:VTIMEZONE
TZID:UTC
BEGIN:STANDARD
TZOFFSETFROM:+0000
TZOFFSETTO:+0000
TZNAME:UTC
DTSTART:20220101T000000
END:STANDARD
END:VTIMEZONE
BEGIN:VEVENT
DTSTART;VALUE=DATE:20220521
DTEND;VALUE=DATE:20220522
DTSTAMP:20260424T065048
CREATED:20220418T215430Z
LAST-MODIFIED:20220418T222207Z
UID:7760-1653091200-1653177599@lansbrooktampabay.com
SUMMARY:Pavilion Reserved - East Lake HS Graduation
DESCRIPTION:
URL:https://lansbrooktampabay.com/event/pavilion-reserved-elhs-graduation/
END:VEVENT
BEGIN:VEVENT
DTSTART;TZID=UTC:20220520T180000
DTEND;TZID=UTC:20220520T203000
DTSTAMP:20260424T065048
CREATED:20220325T015248Z
LAST-MODIFIED:20220325T015248Z
UID:7659-1653069600-1653078600@lansbrooktampabay.com
SUMMARY:Movie
DESCRIPTION:Join us in Lakefront Park for a family friendly Movie Night\, starting promptly at 6:30. Be sure to bring a blanket or chairs.
URL:https://lansbrooktampabay.com/event/movie-2/
END:VEVENT
BEGIN:VEVENT
DTSTART;TZID=America/New_York:20220514T100000
DTEND;TZID=America/New_York:20220514T170000
DTSTAMP:20260424T065048
CREATED:20220420T181458Z
LAST-MODIFIED:20220420T181458Z
UID:7763-1652522400-1652547600@lansbrooktampabay.com
SUMMARY:Pavilion Reserved
DESCRIPTION:
URL:https://lansbrooktampabay.com/event/pavilion-reserved-7/
END:VEVENT
BEGIN:VEVENT
DTSTART;TZID=UTC:20220508T100000
DTEND;TZID=UTC:20220508T190000
DTSTAMP:20260424T065048
CREATED:20220406T221817Z
LAST-MODIFIED:20220406T221817Z
UID:7737-1652004000-1652036400@lansbrooktampabay.com
SUMMARY:Pavilion Reserved
DESCRIPTION:
URL:https://lansbrooktampabay.com/event/pavilion-reserved-6/
END:VEVENT
BEGIN:VEVENT
DTSTART;TZID=America/New_York:20220506T110000
DTEND;TZID=America/New_York:20220506T150000
DTSTAMP:20260424T065048
CREATED:20220504T185955Z
LAST-MODIFIED:20220504T190037Z
UID:7772-1651834800-1651849200@lansbrooktampabay.com
SUMMARY:Pavilion Reserved
DESCRIPTION:
URL:https://lansbrooktampabay.com/event/pavilion-reserved-9/
END:VEVENT
BEGIN:VEVENT
DTSTART;TZID=America/New_York:20220502T173000
DTEND;TZID=America/New_York:20220502T200000
DTSTAMP:20260424T065048
CREATED:20220406T221753Z
LAST-MODIFIED:20220406T221753Z
UID:7735-1651512600-1651521600@lansbrooktampabay.com
SUMMARY:Pavilion Reserved
DESCRIPTION:
URL:https://lansbrooktampabay.com/event/pavilion-reserved-5/
END:VEVENT
BEGIN:VEVENT
DTSTART;TZID=America/New_York:20220501T100000
DTEND;TZID=America/New_York:20220501T150000
DTSTAMP:20260424T065048
CREATED:20220406T221719Z
LAST-MODIFIED:20220406T221719Z
UID:7732-1651399200-1651417200@lansbrooktampabay.com
SUMMARY:Pavilion Reserved
DESCRIPTION:
URL:https://lansbrooktampabay.com/event/pavilion-reserved-4/
END:VEVENT
BEGIN:VEVENT
DTSTART;VALUE=DATE:20220501
DTEND;VALUE=DATE:20220502
DTSTAMP:20260424T065048
CREATED:20220325T015436Z
LAST-MODIFIED:20220406T221946Z
UID:7665-1651363200-1651449599@lansbrooktampabay.com
SUMMARY:Mother’s Day Craft - Movie Event Lawn
DESCRIPTION:
URL:https://lansbrooktampabay.com/event/mothers-day-craft/
CATEGORIES:Holiday
END:VEVENT
BEGIN:VEVENT
DTSTART;VALUE=DATE:20220430
DTEND;VALUE=DATE:20220501
DTSTAMP:20260424T065048
CREATED:20220328T224212Z
LAST-MODIFIED:20220416T201605Z
UID:7698-1651276800-1651363199@lansbrooktampabay.com
SUMMARY:Pavilion Reserved - East Lake HS Prom
DESCRIPTION:Lakefront Park gates will be open to students of East Lake High School to take Prom pictures.
URL:https://lansbrooktampabay.com/event/east-lake-hs-prom/
END:VEVENT
BEGIN:VEVENT
DTSTART;TZID=UTC:20220425T190000
DTEND;TZID=UTC:20220425T190000
DTSTAMP:20260424T065048
CREATED:20220325T020216Z
LAST-MODIFIED:20220325T021010Z
UID:7671-1650913200-1650913200@lansbrooktampabay.com
SUMMARY:Board of Directors Meeting
DESCRIPTION:All meetings held via Zoom and Phone unless modified: \nZoom: https://zoom.us/j/3073370525?pwd=K3lLc1pFV2hUSjJURUtpMW1UTDBHQT09 \nMeeting ID: 307 337 0525 \nPasscode: 388432 \nPhone 646 558 8656 US
URL:https://lansbrooktampabay.com/event/board-of-directors-meeting/
CATEGORIES:Meetings
END:VEVENT
BEGIN:VEVENT
DTSTART;TZID=America/New_York:20220424T103000
DTEND;TZID=America/New_York:20220424T153000
DTSTAMP:20260424T065048
CREATED:20220406T220917Z
LAST-MODIFIED:20220406T220917Z
UID:7730-1650796200-1650814200@lansbrooktampabay.com
SUMMARY:Pavilion Reserved
DESCRIPTION:
URL:https://lansbrooktampabay.com/event/pavilion-reserved-3/
END:VEVENT
BEGIN:VEVENT
DTSTART;TZID=UTC:20220422T180000
DTEND;TZID=UTC:20220422T203000
DTSTAMP:20260424T065048
CREATED:20220325T015210Z
LAST-MODIFIED:20220416T201939Z
UID:7657-1650650400-1650659400@lansbrooktampabay.com
SUMMARY:Movie - Finding Nemo
DESCRIPTION:Join us in Lakefront Park for a family friendly Movie Night\, starting promptly at 6:30. Be sure to bring a blanket or chairs. \n 
URL:https://lansbrooktampabay.com/event/movie/
CATEGORIES:Movie Night
END:VEVENT
BEGIN:VEVENT
DTSTART;TZID=UTC:20220419T123000
DTEND;TZID=UTC:20220419T130000
DTSTAMP:20260424T065048
CREATED:20220413T190304Z
LAST-MODIFIED:20220413T191250Z
UID:7747-1650371400-1650373200@lansbrooktampabay.com
SUMMARY:ARC Meeting
DESCRIPTION:Zoom Meeting ID: 307 337 0525 Passcode: 388432
URL:https://lansbrooktampabay.com/event/arc-meeting-zoom-meeting-id-307-337-0525-passcode-388432/
END:VEVENT
BEGIN:VEVENT
DTSTART;TZID=America/New_York:20220417T133000
DTEND;TZID=America/New_York:20220417T193000
DTSTAMP:20260424T065048
CREATED:20220413T190056Z
LAST-MODIFIED:20220413T190539Z
UID:7745-1650202200-1650223800@lansbrooktampabay.com
SUMMARY:Pavilion Reservation
DESCRIPTION:
URL:https://lansbrooktampabay.com/event/pavilion-reservation/
END:VEVENT
BEGIN:VEVENT
DTSTART;TZID=America/New_York:20220409T100000
DTEND;TZID=America/New_York:20220409T210000
DTSTAMP:20260424T065048
CREATED:20220406T214559Z
LAST-MODIFIED:20220406T214559Z
UID:7727-1649498400-1649538000@lansbrooktampabay.com
SUMMARY:Pavilion Reserved
DESCRIPTION:
URL:https://lansbrooktampabay.com/event/pavilion-reserved-2/
END:VEVENT
BEGIN:VEVENT
DTSTART;TZID=America/New_York:20220402T100000
DTEND;TZID=America/New_York:20220402T140000
DTSTAMP:20260424T065048
CREATED:20220331T212030Z
LAST-MODIFIED:20220331T212030Z
UID:7720-1648893600-1648908000@lansbrooktampabay.com
SUMMARY:Pavilion Reserved
DESCRIPTION:
URL:https://lansbrooktampabay.com/event/pavilion-reserved/
END:VEVENT
BEGIN:VEVENT
DTSTART;TZID=UTC:20220328T190000
DTEND;TZID=UTC:20220328T190000
DTSTAMP:20260424T065048
CREATED:20220325T021315Z
LAST-MODIFIED:20220325T021315Z
UID:7687-1648494000-1648494000@lansbrooktampabay.com
SUMMARY:Board of Directors Meeting
DESCRIPTION:All meetings held via Zoom and Phone unless modified: \nZoom: https://zoom.us/j/3073370525?pwd=K3lLc1pFV2hUSjJURUtpMW1UTDBHQT09 \nMeeting ID: 307 337 0525 \nPasscode: 388432 \nPhone 646 558 8656 US
URL:https://lansbrooktampabay.com/event/board-of-directors-meeting-7/
CATEGORIES:Meetings
END:VEVENT
BEGIN:VEVENT
DTSTART;TZID=UTC:20220325T180000
DTEND;TZID=UTC:20220325T200000
DTSTAMP:20260424T065048
CREATED:20220324T185146Z
LAST-MODIFIED:20220325T015554Z
UID:7639-1648231200-1648238400@lansbrooktampabay.com
SUMMARY:Movie – Despicable Me
DESCRIPTION:Join us in Lakefront Park for a family friendly Movie Night\, starting promptly at 6:30. Be sure to bring a blanket or chairs.
URL:https://lansbrooktampabay.com/event/movie-despicable-me/
CATEGORIES:Movie Night
END:VEVENT
BEGIN:VEVENT
DTSTART;TZID=UTC:20220304T180000
DTEND;TZID=UTC:20220304T203000
DTSTAMP:20260424T065048
CREATED:20220324T184907Z
LAST-MODIFIED:20220325T015128Z
UID:7637-1646416800-1646425800@lansbrooktampabay.com
SUMMARY:Movie - Frozen
DESCRIPTION:Join us in Lakefront Park for a family friendly Movie Night\, starting promptly at 6:30. Be sure to bring a blanket or chairs.
URL:https://lansbrooktampabay.com/event/movie-frozen/
END:VEVENT
END:VCALENDAR