BEGIN:VCALENDAR
VERSION:2.0
PRODID:-//Lansbrook - ECPv6.13.2.1//NONSGML v1.0//EN
CALSCALE:GREGORIAN
METHOD:PUBLISH
X-WR-CALNAME:Lansbrook
X-ORIGINAL-URL:https://lansbrooktampabay.com
X-WR-CALDESC:Events for Lansbrook
REFRESH-INTERVAL;VALUE=DURATION:PT1H
X-Robots-Tag:noindex
X-PUBLISHED-TTL:PT1H
BEGIN:VTIMEZONE
TZID:America/New_York
BEGIN:DAYLIGHT
TZOFFSETFROM:-0500
TZOFFSETTO:-0400
TZNAME:EDT
DTSTART:20240310T070000
END:DAYLIGHT
BEGIN:STANDARD
TZOFFSETFROM:-0400
TZOFFSETTO:-0500
TZNAME:EST
DTSTART:20241103T060000
END:STANDARD
END:VTIMEZONE
BEGIN:VEVENT
DTSTART;TZID=America/New_York:20240918T163000
DTEND;TZID=America/New_York:20240918T183000
DTSTAMP:20260423T174331
CREATED:20240830T155313Z
LAST-MODIFIED:20240830T155314Z
UID:8304-1726677000-1726684200@lansbrooktampabay.com
SUMMARY:Pavilion Reservation - Paredes
DESCRIPTION:The Lakefront Park Pavilion is \nRESERVED \nWednesday\, September 18\, 2024\n4:30 pm – 6:30 pm \nFor:\nRebecca Paredes
URL:https://lansbrooktampabay.com/event/pavilion-reservation-paredes-2/
LOCATION:Lake Front Pavilion
CATEGORIES:Reservation
END:VEVENT
BEGIN:VEVENT
DTSTART;TZID=America/New_York:20240915T140000
DTEND;TZID=America/New_York:20240915T180000
DTSTAMP:20260423T174331
CREATED:20240911T130820Z
LAST-MODIFIED:20240911T130820Z
UID:8316-1726408800-1726423200@lansbrooktampabay.com
SUMMARY:Pavilion Reservation - Faltas
DESCRIPTION:The Lakefront Park Pavilion is \nRESERVED \nSunday\, September 15\, 2024\n2:00 pm – 6:00 pm \nFor:\nIrini Faltas
URL:https://lansbrooktampabay.com/event/pavilion-reservation-faltas/
LOCATION:Lakefront Park Lawn
CATEGORIES:Reservation
END:VEVENT
BEGIN:VEVENT
DTSTART;VALUE=DATE:20240914
DTEND;VALUE=DATE:20240915
DTSTAMP:20260423T174331
CREATED:20240306T191755Z
LAST-MODIFIED:20240306T191756Z
UID:8188-1726272000-1726358399@lansbrooktampabay.com
SUMMARY:Pavilion Reservation - Vicari
DESCRIPTION:The Lakefront Park Pavilion is \n  \nRESERVED \n  \nSaturday September 14\, 2024 \n9:00 am – 7:00 pm \n  \nFor: \nDebra Vicari
URL:https://lansbrooktampabay.com/event/pavilion-reservation-vicari/
LOCATION:Lake Front Pavilion
CATEGORIES:Reservation
END:VEVENT
BEGIN:VEVENT
DTSTART;TZID=America/New_York:20240911T163000
DTEND;TZID=America/New_York:20240911T183000
DTSTAMP:20260423T174331
CREATED:20240830T155441Z
LAST-MODIFIED:20240830T155441Z
UID:8306-1726072200-1726079400@lansbrooktampabay.com
SUMMARY:Pavilion Reservation - Paredes
DESCRIPTION:The Lakefront Park Pavilion is \nRESERVED \nWednesday\, September 11\, 2024\n4:30 pm – 6:30 pm \nFor:\nRebecca Paredes
URL:https://lansbrooktampabay.com/event/pavilion-reservation-paredes-3/
LOCATION:Lake Front Pavilion
CATEGORIES:Reservation
END:VEVENT
BEGIN:VEVENT
DTSTART;TZID=America/New_York:20240904T163000
DTEND;TZID=America/New_York:20240904T183000
DTSTAMP:20260423T174331
CREATED:20240830T155108Z
LAST-MODIFIED:20240830T155109Z
UID:8302-1725467400-1725474600@lansbrooktampabay.com
SUMMARY:Pavilion Reservation - Paredes
DESCRIPTION:The Lakefront Park Pavilion is \nRESERVED \nWednesday\, September 4\, 2024\n4:30 pm – 6:30 pm \nFor:\nRebecca Paredes
URL:https://lansbrooktampabay.com/event/pavilion-reservation-paredes/
LOCATION:Lake Front Pavilion
CATEGORIES:Reservation
END:VEVENT
BEGIN:VEVENT
DTSTART;TZID=America/New_York:20240826T190000
DTEND;TZID=America/New_York:20240826T210000
DTSTAMP:20260423T174331
CREATED:20240126T170957Z
LAST-MODIFIED:20240126T170957Z
UID:8166-1724698800-1724706000@lansbrooktampabay.com
SUMMARY:August 2024 Board Meeting
DESCRIPTION:All meetings are held via Zoom and phone unless modified \nhttps://zoom.us/j/3073370525?pwd=K3lLc1pFV2hUSjJURUtpMW1UTDBHQT09 \nMeeting ID: 307 337 0525 \nPasscode: 388432 \nPhone (646) 558-8656
URL:https://lansbrooktampabay.com/event/august-2024-board-meeting/
CATEGORIES:Meetings
END:VEVENT
BEGIN:VEVENT
DTSTART;TZID=America/New_York:20240722T190000
DTEND;TZID=America/New_York:20240722T210000
DTSTAMP:20260423T174331
CREATED:20240126T170914Z
LAST-MODIFIED:20240126T170914Z
UID:8164-1721674800-1721682000@lansbrooktampabay.com
SUMMARY:July 2024 Board Meeting
DESCRIPTION:All meetings are held via Zoom and phone unless modified \nhttps://zoom.us/j/3073370525?pwd=K3lLc1pFV2hUSjJURUtpMW1UTDBHQT09 \nMeeting ID: 307 337 0525 \nPasscode: 388432 \nPhone (646) 558-8656
URL:https://lansbrooktampabay.com/event/july-2024-board-meeting/
CATEGORIES:Meetings
END:VEVENT
BEGIN:VEVENT
DTSTART;VALUE=DATE:20240704
DTEND;VALUE=DATE:20240705
DTSTAMP:20260423T174331
CREATED:20231227T153634Z
LAST-MODIFIED:20231227T153928Z
UID:8076-1720051200-1720137599@lansbrooktampabay.com
SUMMARY:4th of July Party
DESCRIPTION:
URL:https://lansbrooktampabay.com/event/4th-of-july-party/
CATEGORIES:Holiday
END:VEVENT
BEGIN:VEVENT
DTSTART;TZID=America/New_York:20240624T190000
DTEND;TZID=America/New_York:20240624T210000
DTSTAMP:20260423T174331
CREATED:20240126T170831Z
LAST-MODIFIED:20240126T170831Z
UID:8162-1719255600-1719262800@lansbrooktampabay.com
SUMMARY:June 2024 Board Meeting
DESCRIPTION:All meetings are held via Zoom and phone unless modified \nhttps://zoom.us/j/3073370525?pwd=K3lLc1pFV2hUSjJURUtpMW1UTDBHQT09 \nMeeting ID: 307 337 0525 \nPasscode: 388432 \nPhone (646) 558-8656
URL:https://lansbrooktampabay.com/event/june-2024-board-meeting/
CATEGORIES:Meetings
END:VEVENT
BEGIN:VEVENT
DTSTART;VALUE=DATE:20240615
DTEND;VALUE=DATE:20240616
DTSTAMP:20260423T174331
CREATED:20231227T153609Z
LAST-MODIFIED:20231227T153609Z
UID:8074-1718409600-1718495999@lansbrooktampabay.com
SUMMARY:Father's Day at YMCA
DESCRIPTION:
URL:https://lansbrooktampabay.com/event/fathers-day-at-ymca/
CATEGORIES:Holiday
END:VEVENT
BEGIN:VEVENT
DTSTART;TZID=America/New_York:20240614T120000
DTEND;TZID=America/New_York:20240614T140000
DTSTAMP:20260423T174331
CREATED:20240604T171049Z
LAST-MODIFIED:20240604T171056Z
UID:8219-1718366400-1718373600@lansbrooktampabay.com
SUMMARY:Pavilion Reservation - Matheny
DESCRIPTION:The Lakefront Park Pavilion is \n  \nRESERVED \n  \nFriday\, June 14\, 2024 \n12:00 am – 2:00 pm \n  \nFor: \nKari Matheny
URL:https://lansbrooktampabay.com/event/pavilion-reservation-matheny/
LOCATION:Lake Front Pavilion
CATEGORIES:Reservation
END:VEVENT
BEGIN:VEVENT
DTSTART;VALUE=DATE:20240529
DTEND;VALUE=DATE:20240530
DTSTAMP:20260423T174331
CREATED:20231227T153504Z
LAST-MODIFIED:20231227T153504Z
UID:8070-1716940800-1717027199@lansbrooktampabay.com
SUMMARY:End of School Party
DESCRIPTION:
URL:https://lansbrooktampabay.com/event/end-of-school-party/
END:VEVENT
BEGIN:VEVENT
DTSTART;TZID=America/New_York:20240520T190000
DTEND;TZID=America/New_York:20240520T210000
DTSTAMP:20260423T174331
CREATED:20240126T170746Z
LAST-MODIFIED:20240126T170746Z
UID:8160-1716231600-1716238800@lansbrooktampabay.com
SUMMARY:May 2024 Board Meeting
DESCRIPTION:All meetings are held via Zoom and phone unless modified \nhttps://zoom.us/j/3073370525?pwd=K3lLc1pFV2hUSjJURUtpMW1UTDBHQT09 \nMeeting ID: 307 337 0525 \nPasscode: 388432 \nPhone (646) 558-8656
URL:https://lansbrooktampabay.com/event/may-2024-board-meeting/
CATEGORIES:Meetings
END:VEVENT
BEGIN:VEVENT
DTSTART;TZID=America/New_York:20240518T093000
DTEND;TZID=America/New_York:20240518T123000
DTSTAMP:20260423T174331
CREATED:20240321T182814Z
LAST-MODIFIED:20240321T184147Z
UID:8190-1716024600-1716035400@lansbrooktampabay.com
SUMMARY:Pavilion Reservation - Jennings
DESCRIPTION:  \nThe Lakefront Park Pavilion is \n  \nRESERVED \n  \nTuesday\, May 14\, 2024 \n9:30 am -12:30 pm \n  \nFor: \nBrian Jennings
URL:https://lansbrooktampabay.com/event/pavilion-reservation-jennings-2/
CATEGORIES:Reservation
END:VEVENT
BEGIN:VEVENT
DTSTART;TZID=America/New_York:20240512T100000
DTEND;TZID=America/New_York:20240512T180000
DTSTAMP:20260423T174331
CREATED:20240409T194237Z
LAST-MODIFIED:20240409T194237Z
UID:8201-1715508000-1715536800@lansbrooktampabay.com
SUMMARY:Pavilion Reservation - Jackson
DESCRIPTION:The Lakefront Park Pavilion is \n  \nRESERVED \n  \nSunday\, May 12\, 2024 \n10:00 pm – 6:00 pm \n  \nFor: \nCarolyn Jackson
URL:https://lansbrooktampabay.com/event/pavilion-reservation-jackson/
LOCATION:Lake Front Pavilion
CATEGORIES:Reservation
END:VEVENT
BEGIN:VEVENT
DTSTART;TZID=America/New_York:20240511T110000
DTEND;TZID=America/New_York:20240511T170000
DTSTAMP:20260423T174331
CREATED:20240509T171554Z
LAST-MODIFIED:20240509T171555Z
UID:8210-1715425200-1715446800@lansbrooktampabay.com
SUMMARY:Pavilion Reservation - Cooper
DESCRIPTION:The Lakefront Park Pavilion is \n  \nRESERVED \n  \nSaturday\, May 11\, 2024 \n11:00 am – 5:00 pm \n  \nFor: \nBrad Cooper
URL:https://lansbrooktampabay.com/event/pavilion-reservation-cooper-2/
LOCATION:Lake Front Pavilion
CATEGORIES:Reservation
END:VEVENT
BEGIN:VEVENT
DTSTART;VALUE=DATE:20240511
DTEND;VALUE=DATE:20240512
DTSTAMP:20260423T174331
CREATED:20231227T153533Z
LAST-MODIFIED:20231227T153957Z
UID:8072-1715385600-1715471999@lansbrooktampabay.com
SUMMARY:Mother's Day at YMCA
DESCRIPTION:
URL:https://lansbrooktampabay.com/event/mothers-day-at-ymca/
CATEGORIES:Holiday
END:VEVENT
BEGIN:VEVENT
DTSTART;TZID=America/New_York:20240504T100000
DTEND;TZID=America/New_York:20240504T113000
DTSTAMP:20260423T174331
CREATED:20240102T172926Z
LAST-MODIFIED:20240102T172926Z
UID:8100-1714816800-1714822200@lansbrooktampabay.com
SUMMARY:Pavilion Reservation - Kerley
DESCRIPTION:The Lakefront Park Pavilion is \n  \nRESERVED \n  \nSaturday\, May 4\, 2024 \n10:00 am -11:30 am \n  \nFor: \nAmanda Kerley
URL:https://lansbrooktampabay.com/event/pavilion-reservation-kerley-5/
LOCATION:Lake Front Pavilion
CATEGORIES:Reservation
END:VEVENT
BEGIN:VEVENT
DTSTART;TZID=America/New_York:20240427T183000
DTEND;TZID=America/New_York:20240427T213000
DTSTAMP:20260423T174331
CREATED:20231227T151602Z
LAST-MODIFIED:20231227T151849Z
UID:8056-1714242600-1714253400@lansbrooktampabay.com
SUMMARY:Lansbrook Movie Night
DESCRIPTION:
URL:https://lansbrooktampabay.com/event/lansbrook-movie-night-4/
CATEGORIES:Movie Night
END:VEVENT
BEGIN:VEVENT
DTSTART;TZID=America/New_York:20240427T120000
DTEND;TZID=America/New_York:20240427T150000
DTSTAMP:20260423T174331
CREATED:20240328T134529Z
LAST-MODIFIED:20240328T134529Z
UID:8197-1714219200-1714230000@lansbrooktampabay.com
SUMMARY:Pavilion Reservation - Munuhe
DESCRIPTION:The Lakefront Park Pavilion is \n  \nRESERVED \n  \nSaturday\, April 27\, 2024 \n12:00 pm – 3:00pm \n  \nFor: \nMelissa Munuhe
URL:https://lansbrooktampabay.com/event/pavilion-reservation-munuhe/
LOCATION:Lake Front Pavilion
CATEGORIES:Reservation
END:VEVENT
BEGIN:VEVENT
DTSTART;VALUE=DATE:20240427
DTEND;VALUE=DATE:20240428
DTSTAMP:20260423T174331
CREATED:20231227T153421Z
LAST-MODIFIED:20231227T153422Z
UID:8068-1714176000-1714262399@lansbrooktampabay.com
SUMMARY:Run a Food Drive\, Touch a Truck
DESCRIPTION:
URL:https://lansbrooktampabay.com/event/run-a-food-drive-touch-a-truck/
END:VEVENT
BEGIN:VEVENT
DTSTART;TZID=America/New_York:20240422T190000
DTEND;TZID=America/New_York:20240422T210000
DTSTAMP:20260423T174331
CREATED:20240126T170658Z
LAST-MODIFIED:20240126T170658Z
UID:8158-1713812400-1713819600@lansbrooktampabay.com
SUMMARY:April 2024 Board Meeting
DESCRIPTION:All meetings are held via Zoom and phone unless modified \nhttps://zoom.us/j/3073370525?pwd=K3lLc1pFV2hUSjJURUtpMW1UTDBHQT09 \nMeeting ID: 307 337 0525 \nPasscode: 388432 \nPhone (646) 558-8656
URL:https://lansbrooktampabay.com/event/april-2024-board-meeting/
CATEGORIES:Meetings
END:VEVENT
BEGIN:VEVENT
DTSTART;TZID=America/New_York:20240413T090000
DTEND;TZID=America/New_York:20240413T173000
DTSTAMP:20260423T174331
CREATED:20240408T204154Z
LAST-MODIFIED:20240408T204154Z
UID:8199-1712998800-1713029400@lansbrooktampabay.com
SUMMARY:Pavilion Reservation - Goniwich
DESCRIPTION:  \nThe Lakefront Park Pavilion is \n  \nRESERVED \n  \nTuesday\, April 13\, 2024 \n9:00 am – 6:00 pm \n  \nFor: \nRebecca Goniwich
URL:https://lansbrooktampabay.com/event/pavilion-reservation-goniwich-2/
LOCATION:Lake Front Pavilion
CATEGORIES:Reservation
END:VEVENT
BEGIN:VEVENT
DTSTART;TZID=America/New_York:20240406T080000
DTEND;TZID=America/New_York:20240406T170000
DTSTAMP:20260423T174331
CREATED:20240102T172846Z
LAST-MODIFIED:20240102T172846Z
UID:8098-1712390400-1712422800@lansbrooktampabay.com
SUMMARY:Pavilion Reservation - Kerley
DESCRIPTION:The Lakefront Park Pavilion is \n  \nRESERVED \n  \nSaturday\, April 6\, 2024 \n10:00 am -11:30 am \n  \nFor: \nAmanda Kerley
URL:https://lansbrooktampabay.com/event/pavilion-reservation-kerley-4/
CATEGORIES:Reservation
END:VEVENT
BEGIN:VEVENT
DTSTART;TZID=America/New_York:20240325T190000
DTEND;TZID=America/New_York:20240325T210000
DTSTAMP:20260423T174331
CREATED:20240126T170619Z
LAST-MODIFIED:20240126T171443Z
UID:8156-1711393200-1711400400@lansbrooktampabay.com
SUMMARY:March 2024 Board Meeting
DESCRIPTION:All meetings are held via Zoom and phone unless modified \nhttps://zoom.us/j/3073370525?pwd=K3lLc1pFV2hUSjJURUtpMW1UTDBHQT09 \nMeeting ID: 307 337 0525 \nPasscode: 388432 \nPhone (646) 558-8656
URL:https://lansbrooktampabay.com/event/march-board-meeting/
CATEGORIES:Meetings
END:VEVENT
BEGIN:VEVENT
DTSTART;TZID=America/New_York:20240324T090000
DTEND;TZID=America/New_York:20240324T150000
DTSTAMP:20260423T174331
CREATED:20240103T172928Z
LAST-MODIFIED:20240103T172928Z
UID:8110-1711270800-1711292400@lansbrooktampabay.com
SUMMARY:Pavilion Reservation - Arora
DESCRIPTION:The Lakefront Park Pavilion is \n  \nRESERVED \n  \nSunday\, March 24\, 2024 \n9:00 am – 3:00 pm \n  \nFor: \nAlka Arora
URL:https://lansbrooktampabay.com/event/pavilion-reservation-arora/
LOCATION:Lake Front Pavilion
CATEGORIES:Movie Night,Reservation
END:VEVENT
BEGIN:VEVENT
DTSTART;TZID=America/New_York:20240322T183000
DTEND;TZID=America/New_York:20240322T213000
DTSTAMP:20260423T174331
CREATED:20231227T151455Z
LAST-MODIFIED:20231227T151455Z
UID:8054-1711132200-1711143000@lansbrooktampabay.com
SUMMARY:Lansbrook Movie Night
DESCRIPTION:
URL:https://lansbrooktampabay.com/event/lansbrook-movie-night-3/
CATEGORIES:Movie Night
END:VEVENT
BEGIN:VEVENT
DTSTART;VALUE=DATE:20240322
DTEND;VALUE=DATE:20240323
DTSTAMP:20260423T174331
CREATED:20231227T153320Z
LAST-MODIFIED:20231227T153320Z
UID:8066-1711065600-1711151999@lansbrooktampabay.com
SUMMARY:Spring Cleaning Clothing Swap
DESCRIPTION:
URL:https://lansbrooktampabay.com/event/spring-cleaning-clothing-swap/
END:VEVENT
BEGIN:VEVENT
DTSTART;TZID=America/New_York:20240316T110000
DTEND;TZID=America/New_York:20240316T130000
DTSTAMP:20260423T174331
CREATED:20240202T210247Z
LAST-MODIFIED:20240202T210247Z
UID:8177-1710586800-1710594000@lansbrooktampabay.com
SUMMARY:Pavilion Reservation - Hausman
DESCRIPTION:The Lakefront Park Pavilion is \n  \nRESERVED \n  \nSaturday\, March 16\, 2024 \n11:00 am – 1:00 pm \n  \nFor: \nCarolyn Hausman
URL:https://lansbrooktampabay.com/event/pavilion-reservation-hausman/
LOCATION:Lake Front Pavilion
CATEGORIES:Reservation
END:VEVENT
BEGIN:VEVENT
DTSTART;TZID=America/New_York:20240309T110000
DTEND;TZID=America/New_York:20240309T160000
DTSTAMP:20260423T174331
CREATED:20240108T213249Z
LAST-MODIFIED:20240108T213249Z
UID:8136-1709982000-1710000000@lansbrooktampabay.com
SUMMARY:Pavilion Reservation - Myers
DESCRIPTION:The Lakefront Park Pavilion is \n  \nRESERVED \n  \nSaturday\, March 09\, 2024 \n11:00 am – 4:00 pm \n  \nFor: \nPaula Myers
URL:https://lansbrooktampabay.com/event/pavilion-reservation-myers/
LOCATION:Lake Front Pavilion
CATEGORIES:Reservation
END:VEVENT
END:VCALENDAR