BEGIN:VCALENDAR
VERSION:2.0
PRODID:-//Lansbrook - ECPv6.13.2.1//NONSGML v1.0//EN
CALSCALE:GREGORIAN
METHOD:PUBLISH
X-WR-CALNAME:Lansbrook
X-ORIGINAL-URL:https://lansbrooktampabay.com
X-WR-CALDESC:Events for Lansbrook
REFRESH-INTERVAL;VALUE=DURATION:PT1H
X-Robots-Tag:noindex
X-PUBLISHED-TTL:PT1H
BEGIN:VTIMEZONE
TZID:America/New_York
BEGIN:DAYLIGHT
TZOFFSETFROM:-0500
TZOFFSETTO:-0400
TZNAME:EDT
DTSTART:20220313T070000
END:DAYLIGHT
BEGIN:STANDARD
TZOFFSETFROM:-0400
TZOFFSETTO:-0500
TZNAME:EST
DTSTART:20221106T060000
END:STANDARD
END:VTIMEZONE
BEGIN:VTIMEZONE
TZID:UTC
BEGIN:STANDARD
TZOFFSETFROM:+0000
TZOFFSETTO:+0000
TZNAME:UTC
DTSTART:20220101T000000
END:STANDARD
END:VTIMEZONE
BEGIN:VEVENT
DTSTART;TZID=America/New_York:20220924T130000
DTEND;TZID=America/New_York:20220924T160000
DTSTAMP:20260425T205140
CREATED:20220415T194126Z
LAST-MODIFIED:20220415T194126Z
UID:7753-1664024400-1664035200@lansbrooktampabay.com
SUMMARY:Pavilion Reservation
DESCRIPTION:
URL:https://lansbrooktampabay.com/event/pavilion-reservation-2/
END:VEVENT
BEGIN:VEVENT
DTSTART;TZID=UTC:20220926T190000
DTEND;TZID=UTC:20220926T190000
DTSTAMP:20260425T205140
CREATED:20220325T020801Z
LAST-MODIFIED:20220325T020905Z
UID:7680-1664218800-1664218800@lansbrooktampabay.com
SUMMARY:Board of Directors Meeting
DESCRIPTION:Includes Budget Meeting \nAll meetings held via Zoom and Phone unless modified: \nZoom: https://zoom.us/j/3073370525?pwd=K3lLc1pFV2hUSjJURUtpMW1UTDBHQT09 \nMeeting ID: 307 337 0525 \nPasscode: 388432 \nPhone 646 558 8656 US
URL:https://lansbrooktampabay.com/event/board-of-directors-meeting-6/
CATEGORIES:Meetings
END:VEVENT
END:VCALENDAR