BEGIN:VCALENDAR
VERSION:2.0
PRODID:-//Lansbrook - ECPv6.13.2.1//NONSGML v1.0//EN
CALSCALE:GREGORIAN
METHOD:PUBLISH
X-WR-CALNAME:Lansbrook
X-ORIGINAL-URL:https://lansbrooktampabay.com
X-WR-CALDESC:Events for Lansbrook
REFRESH-INTERVAL;VALUE=DURATION:PT1H
X-Robots-Tag:noindex
X-PUBLISHED-TTL:PT1H
BEGIN:VTIMEZONE
TZID:America/New_York
BEGIN:DAYLIGHT
TZOFFSETFROM:-0500
TZOFFSETTO:-0400
TZNAME:EDT
DTSTART:20240310T070000
END:DAYLIGHT
BEGIN:STANDARD
TZOFFSETFROM:-0400
TZOFFSETTO:-0500
TZNAME:EST
DTSTART:20241103T060000
END:STANDARD
END:VTIMEZONE
BEGIN:VEVENT
DTSTART;TZID=America/New_York:20240202T163000
DTEND;TZID=America/New_York:20240202T183000
DTSTAMP:20260424T173419
CREATED:20240123T160631Z
LAST-MODIFIED:20240123T160631Z
UID:8142-1706891400-1706898600@lansbrooktampabay.com
SUMMARY:Pavilion Reservation - Peluso
DESCRIPTION:The Lakefront Park Pavilion is \n  \nRESERVED \n  \nFriday\, February 2\, 2024 \n4:30 pm – 6:30 pm \n  \nFor: \nElizabeth Peluso
URL:https://lansbrooktampabay.com/event/pavilion-reservation-peluso/
LOCATION:Lake Front Pavilion
CATEGORIES:Reservation
END:VEVENT
BEGIN:VEVENT
DTSTART;TZID=America/New_York:20240203T100000
DTEND;TZID=America/New_York:20240203T113000
DTSTAMP:20260424T173419
CREATED:20240102T172656Z
LAST-MODIFIED:20240102T172656Z
UID:8094-1706954400-1706959800@lansbrooktampabay.com
SUMMARY:Pavilion Reservation - Kerley
DESCRIPTION:The Lakefront Park Pavilion is \n  \nRESERVED \n  \nSaturday\, Febuary 3\, 2024 \n10:00 am -11:30 am \n  \nFor: \nAmanda Kerley
URL:https://lansbrooktampabay.com/event/pavilion-reservation-kerley-2/
LOCATION:Lake Front Pavilion
CATEGORIES:Reservation
END:VEVENT
BEGIN:VEVENT
DTSTART;TZID=America/New_York:20240204T110000
DTEND;TZID=America/New_York:20240204T130000
DTSTAMP:20260424T173419
CREATED:20231218T165405Z
LAST-MODIFIED:20231218T165405Z
UID:8046-1707044400-1707051600@lansbrooktampabay.com
SUMMARY:Pavilion Reservation - Jennings
DESCRIPTION:The Lakefront Park Pavilion is \nRESERVED \nSunday\, February 4\, 2024\n11:00 am – 1:00 pm \nFor:\nBrian Jennings
URL:https://lansbrooktampabay.com/event/pavilion-reservation-jennings/
LOCATION:Lake Front Pavilion
CATEGORIES:Reservation
END:VEVENT
BEGIN:VEVENT
DTSTART;VALUE=DATE:20240210
DTEND;VALUE=DATE:20240211
DTSTAMP:20260424T173419
CREATED:20231227T153058Z
LAST-MODIFIED:20231227T153336Z
UID:8064-1707523200-1707609599@lansbrooktampabay.com
SUMMARY:YMCA Valentine’s Day Craft & Make Cards for the Assisted Living Facility
DESCRIPTION:
URL:https://lansbrooktampabay.com/event/ymca-valentines-day-craft-make-cards-for-the-assisted-living-facility/
END:VEVENT
BEGIN:VEVENT
DTSTART;TZID=America/New_York:20240210T150000
DTEND;TZID=America/New_York:20240210T180000
DTSTAMP:20260424T173419
CREATED:20240123T160313Z
LAST-MODIFIED:20240123T160313Z
UID:8140-1707577200-1707588000@lansbrooktampabay.com
SUMMARY:Pavilion Reservation - Schultz
DESCRIPTION:The Lakefront Park Pavilion is \n  \nRESERVED \n  \nSaturday\, February 10\, 2024 \n3:00 pm – 6:00 pm \n  \nFor: \nEllen Schultz
URL:https://lansbrooktampabay.com/event/pavilion-reservation-schultz/
LOCATION:Lake Front Pavilion
CATEGORIES:Reservation
END:VEVENT
BEGIN:VEVENT
DTSTART;TZID=America/New_York:20240210T183000
DTEND;TZID=America/New_York:20240210T213000
DTSTAMP:20260424T173419
CREATED:20231227T151136Z
LAST-MODIFIED:20231227T151136Z
UID:8051-1707589800-1707600600@lansbrooktampabay.com
SUMMARY:Lansbrook Movie Night
DESCRIPTION:
URL:https://lansbrooktampabay.com/event/lansbrook-movie-night-2/
CATEGORIES:Movie Night
END:VEVENT
BEGIN:VEVENT
DTSTART;TZID=America/New_York:20240213T090000
DTEND;TZID=America/New_York:20240213T180000
DTSTAMP:20260424T173419
CREATED:20240126T165344Z
LAST-MODIFIED:20240126T165345Z
UID:8150-1707814800-1707847200@lansbrooktampabay.com
SUMMARY:Pavilion Reservation - Goniwich
DESCRIPTION:The Lakefront Park Pavilion is \n  \nRESERVED \n  \nTuesday\, April 13\, 2024 \n9:00 am – 6:00 pm \n  \nFor: \nRebecca Goniwich
URL:https://lansbrooktampabay.com/event/pavilion-reservation-goniwich/
LOCATION:Lake Front Pavilion
CATEGORIES:Reservation
END:VEVENT
BEGIN:VEVENT
DTSTART;TZID=America/New_York:20240224T110000
DTEND;TZID=America/New_York:20240224T140000
DTSTAMP:20260424T173419
CREATED:20240109T172557Z
LAST-MODIFIED:20240109T172558Z
UID:8138-1708772400-1708783200@lansbrooktampabay.com
SUMMARY:Pavilion Reservation - McMeekin
DESCRIPTION:The Lakefront Park Pavilion is \n  \nRESERVED \n  \nSaturday\, February 24\, 2024 \n11:00 am – 2:00 pm \n  \nFor: \nLaura McMeekin
URL:https://lansbrooktampabay.com/event/pavilion-reservation-mcmeekin/
LOCATION:Lake Front Pavilion
CATEGORIES:Reservation
END:VEVENT
BEGIN:VEVENT
DTSTART;TZID=America/New_York:20240226T190000
DTEND;TZID=America/New_York:20240226T210000
DTSTAMP:20260424T173419
CREATED:20240126T170540Z
LAST-MODIFIED:20240126T170541Z
UID:8154-1708974000-1708981200@lansbrooktampabay.com
SUMMARY:February 2024 Board Meeting
DESCRIPTION:All meetings are held via Zoom and phone unless modified \nhttps://zoom.us/j/3073370525?pwd=K3lLc1pFV2hUSjJURUtpMW1UTDBHQT09 \nMeeting ID: 307 337 0525 \nPasscode: 388432 \nPhone (646) 558-8656
URL:https://lansbrooktampabay.com/event/february-2024-board-meeting/
CATEGORIES:Meetings
END:VEVENT
END:VCALENDAR