BEGIN:VCALENDAR
VERSION:2.0
PRODID:-//Lansbrook - ECPv6.13.2.1//NONSGML v1.0//EN
CALSCALE:GREGORIAN
METHOD:PUBLISH
X-ORIGINAL-URL:https://lansbrooktampabay.com
X-WR-CALDESC:Events for Lansbrook
REFRESH-INTERVAL;VALUE=DURATION:PT1H
X-Robots-Tag:noindex
X-PUBLISHED-TTL:PT1H
BEGIN:VTIMEZONE
TZID:America/New_York
BEGIN:DAYLIGHT
TZOFFSETFROM:-0500
TZOFFSETTO:-0400
TZNAME:EDT
DTSTART:20250309T070000
END:DAYLIGHT
BEGIN:STANDARD
TZOFFSETFROM:-0400
TZOFFSETTO:-0500
TZNAME:EST
DTSTART:20251102T060000
END:STANDARD
END:VTIMEZONE
BEGIN:VEVENT
DTSTART;TZID=America/New_York:20250202T100000
DTEND;TZID=America/New_York:20250202T130000
DTSTAMP:20260423T191022
CREATED:20250123T184447Z
LAST-MODIFIED:20250123T184447Z
UID:8440-1738490400-1738501200@lansbrooktampabay.com
SUMMARY:Pavilion Reservation - Gittino
DESCRIPTION:The Lakefront Park Pavilion is \nRESERVED \nSunday\, February 02\, 2024\n10:00 am – 1:00 pm \nFor:\nRichard Gittino
URL:https://lansbrooktampabay.com/event/pavilion-reservation-gittino/
LOCATION:Lake Front Pavilion
CATEGORIES:Reservation
END:VEVENT
BEGIN:VEVENT
DTSTART;TZID=America/New_York:20250205T093000
DTEND;TZID=America/New_York:20250205T123000
DTSTAMP:20260423T191022
CREATED:20250107T175506Z
LAST-MODIFIED:20250107T175506Z
UID:8426-1738747800-1738758600@lansbrooktampabay.com
SUMMARY:Pavilion Reservation -Jennings
DESCRIPTION:The Lakefront Park Pavilion is \nRESERVED \nWednesday\, February 5\, 2025\n9:30 am – 12:30 pm \nFor:\nBrian Jennings
URL:https://lansbrooktampabay.com/event/pavilion-reservation-jennings-6/
LOCATION:Lake Front Pavilion
CATEGORIES:Reservation
END:VEVENT
BEGIN:VEVENT
DTSTART;TZID=America/New_York:20250208T140000
DTEND;TZID=America/New_York:20250208T160000
DTSTAMP:20260423T191022
CREATED:20250206T200525Z
LAST-MODIFIED:20250206T200525Z
UID:8498-1739023200-1739030400@lansbrooktampabay.com
SUMMARY:Pavilion Reservation-Simon
DESCRIPTION:The Lakefront Park Pavilion is \nRESERVED \nSaturday\, February 8\, 2025\n2:00 pm – 4:00 pm \nFor:\nLaura Simon
URL:https://lansbrooktampabay.com/event/pavilion-reservation-simon/
CATEGORIES:Reservation
END:VEVENT
BEGIN:VEVENT
DTSTART;TZID=America/New_York:20250213T180000
DTEND;TZID=America/New_York:20250213T190000
DTSTAMP:20260423T191022
CREATED:20250203T160027Z
LAST-MODIFIED:20250203T160028Z
UID:8485-1739469600-1739473200@lansbrooktampabay.com
SUMMARY:Pavilion Reservation-Karlesky
DESCRIPTION:The Lakefront Park Pavilion is \nRESERVED \nThursday\, February 13\, 2025\n6:00 pm – 7:00 pm \nFor:\nSarah Karlesky
URL:https://lansbrooktampabay.com/event/pavilion-reservation-karlesky-3/
LOCATION:Lake Front Pavilion
CATEGORIES:Reservation
END:VEVENT
BEGIN:VEVENT
DTSTART;TZID=America/New_York:20250222T140000
DTEND;TZID=America/New_York:20250222T190000
DTSTAMP:20260423T191022
CREATED:20241016T160351Z
LAST-MODIFIED:20241213T155951Z
UID:8337-1740232800-1740250800@lansbrooktampabay.com
SUMMARY:Pavilion Reservation - Horning
DESCRIPTION:The Lakefront Park Pavilion is \nRESERVED \nSaturday\, February 22\, 2025\n2:00 pm – 7:00 pm \nFor:\nTammy Horning
URL:https://lansbrooktampabay.com/event/pavilion-reservation-horning/
LOCATION:Lake Front Pavilion
CATEGORIES:Reservation
END:VEVENT
BEGIN:VEVENT
DTSTART;TZID=America/New_York:20250223T120000
DTEND;TZID=America/New_York:20250223T150000
DTSTAMP:20260423T191022
CREATED:20250204T205033Z
LAST-MODIFIED:20250204T205034Z
UID:8496-1740312000-1740322800@lansbrooktampabay.com
SUMMARY:Pavilion Reservation- Kelley
DESCRIPTION:The Lakefront Park Pavilion is \nRESERVED \nSunday\, February 23\, 2025\n12:00 pm – 3:00 pm \nFor:\nKeith Kelley
URL:https://lansbrooktampabay.com/event/pavilion-reservation-kelley/
CATEGORIES:Reservation
END:VEVENT
BEGIN:VEVENT
DTSTART;TZID=America/New_York:20250224T190000
DTEND;TZID=America/New_York:20250224T200000
DTSTAMP:20260423T191022
CREATED:20241223T160425Z
LAST-MODIFIED:20241223T160425Z
UID:8393-1740423600-1740427200@lansbrooktampabay.com
SUMMARY:Lansbrook Master Association Board of Directors Meeting
DESCRIPTION:Lansbrook Master Association\, Inc.\n2025 Board of Directors Meeting Schedule\nAll meetings will be on the 4th Monday at 7:00 p.m. except where noted.\nAll meetings are held via Zoom and phone unless modified\nhttps://zoom.us/j/3073370525?pwd=K3lLc1pFV2hUSjJURUtpMW1UTDBHQT09\nMeeting ID: 307 337 0525\nPasscode: 388432\nPhone (646) 558-8656
URL:https://lansbrooktampabay.com/event/lansbrook-master-association-board-of-directors-meeting-2/
CATEGORIES:Meetings
END:VEVENT
BEGIN:VEVENT
DTSTART;VALUE=DATE:20250228
DTEND;VALUE=DATE:20250301
DTSTAMP:20260423T191022
CREATED:20250123T185041Z
LAST-MODIFIED:20250123T185041Z
UID:8442-1740700800-1740787199@lansbrooktampabay.com
SUMMARY:Movie Night 2/28/2025
DESCRIPTION:
URL:https://lansbrooktampabay.com/event/movie-night-2-28-2025/
CATEGORIES:Movie Night
END:VEVENT
END:VCALENDAR