BEGIN:VCALENDAR
VERSION:2.0
PRODID:-//Lansbrook - ECPv6.13.2.1//NONSGML v1.0//EN
CALSCALE:GREGORIAN
METHOD:PUBLISH
X-ORIGINAL-URL:https://lansbrooktampabay.com
X-WR-CALDESC:Events for Lansbrook
REFRESH-INTERVAL;VALUE=DURATION:PT1H
X-Robots-Tag:noindex
X-PUBLISHED-TTL:PT1H
BEGIN:VTIMEZONE
TZID:America/New_York
BEGIN:DAYLIGHT
TZOFFSETFROM:-0500
TZOFFSETTO:-0400
TZNAME:EDT
DTSTART:20260308T070000
END:DAYLIGHT
BEGIN:STANDARD
TZOFFSETFROM:-0400
TZOFFSETTO:-0500
TZNAME:EST
DTSTART:20261101T060000
END:STANDARD
END:VTIMEZONE
BEGIN:VEVENT
DTSTART;TZID=America/New_York:20260201T100000
DTEND;TZID=America/New_York:20260201T160000
DTSTAMP:20260423T000934
CREATED:20260122T031424Z
LAST-MODIFIED:20260122T031425Z
UID:8756-1769940000-1769961600@lansbrooktampabay.com
SUMMARY:Pavilion Reserved on Sunday\, February 1st\, 2026
DESCRIPTION:The Lakefront Park Pavilion is: \nRESERVED \nSunday\, February 1st\, 2026 \nFrom: 10:00 AM to 4:00 PM \nFor:  Jaime Schultz
URL:https://lansbrooktampabay.com/event/pavilion-reserved-on-sunday-february-1st-2026/
CATEGORIES:Reservation
END:VEVENT
BEGIN:VEVENT
DTSTART;TZID=America/New_York:20260207T140000
DTEND;TZID=America/New_York:20260207T160000
DTSTAMP:20260423T000934
CREATED:20260126T171430Z
LAST-MODIFIED:20260126T171431Z
UID:8760-1770472800-1770480000@lansbrooktampabay.com
SUMMARY:Pavilion Reserved on February 7th\, 2026
DESCRIPTION:The Lakefront Park Pavilion is: \nRESERVED \nSaturday\, February 7th\, 2026 \nFrom: 2:00 PM to 4:00 PM \nFor:  Laura E. Simon
URL:https://lansbrooktampabay.com/event/pavilion-reserved-on-february-7th-2026/
CATEGORIES:Reservation
END:VEVENT
BEGIN:VEVENT
DTSTART;TZID=America/New_York:20260215T100000
DTEND;TZID=America/New_York:20260215T130000
DTSTAMP:20260423T000934
CREATED:20260202T200714Z
LAST-MODIFIED:20260202T200715Z
UID:8845-1771149600-1771160400@lansbrooktampabay.com
SUMMARY:Pavilion Reserved on Feb 15th\, 2026
DESCRIPTION:The Lakefront Park Pavilion is:  \nRESERVED  \nSaturday\, February 15th\, 2026  \nFrom: 10:00 AM to 1:00 PM  \nFor:  Brian Jennings
URL:https://lansbrooktampabay.com/event/pavilion-reserved-on-feb-15th-2026/
CATEGORIES:Reservation
END:VEVENT
BEGIN:VEVENT
DTSTART;VALUE=DATE:20260220
DTEND;VALUE=DATE:20260221
DTSTAMP:20260423T000934
CREATED:20260127T200312Z
LAST-MODIFIED:20260127T200312Z
UID:8826-1771545600-1771631999@lansbrooktampabay.com
SUMMARY:Movie Night
DESCRIPTION:
URL:https://lansbrooktampabay.com/event/movie-night-5/
CATEGORIES:Movie Night
END:VEVENT
BEGIN:VEVENT
DTSTART;TZID=America/New_York:20260221T150000
DTEND;TZID=America/New_York:20260221T190000
DTSTAMP:20260423T000934
CREATED:20260209T171230Z
LAST-MODIFIED:20260209T171231Z
UID:8852-1771686000-1771700400@lansbrooktampabay.com
SUMMARY:Pavision Reserved on Feb 21\, 2026
DESCRIPTION:The Lakefront Park Pavilion is:   \nRESERVED   \nSaturday\, February 21st\, 2026 \nFrom: 3:00 PM to 7:00 PM   \nFor:  Adam Garff 
URL:https://lansbrooktampabay.com/event/pavision-reserved-on-feb-21-2026/
CATEGORIES:Reservation
END:VEVENT
BEGIN:VEVENT
DTSTART;TZID=America/New_York:20260222T120000
DTEND;TZID=America/New_York:20260222T170000
DTSTAMP:20260423T000934
CREATED:20260122T025426Z
LAST-MODIFIED:20260122T030307Z
UID:8747-1771761600-1771779600@lansbrooktampabay.com
SUMMARY:Pavilion Reserved on February 22nd\, 2026
DESCRIPTION:The Lakefront Park Pavilion is: \nRESERVED \nSunday\, February 22nd\, 2026 \nFrom: 12:00 AM to 5:00 PM \nFor:  Gary Hamacheck
URL:https://lansbrooktampabay.com/event/pavilion-reserved-on-february-22nd-2026/
CATEGORIES:Reservation
END:VEVENT
BEGIN:VEVENT
DTSTART;TZID=America/New_York:20260223T190000
DTEND;TZID=America/New_York:20260223T190000
DTSTAMP:20260423T000934
CREATED:20260127T183157Z
LAST-MODIFIED:20260127T183157Z
UID:8804-1771873200-1771873200@lansbrooktampabay.com
SUMMARY:Board of Directors Meeting
DESCRIPTION:All meetings will be at 7:00 p.m. except where noted.\nAll meetings are held via Zoom and phone unless modified\nhttps://zoom.us/j/3073370525?pwd=K3lLc1pFV2hUSjJURUtpMW1UTDBHQT09\nMeeting ID: 307 337 0525\nPasscode: 388432\nPhone (646) 558-8656
URL:https://lansbrooktampabay.com/event/board-of-directors-meeting-11/
CATEGORIES:Meetings
END:VEVENT
END:VCALENDAR